{"text_format":"3","workbook":"xlsx","n_sheets":3,"sheets":["How To","Inscrip.","TECH"],"not_rendered":{"images":1,"macros":1,"defined_names":14},"read":"whole","date_system":"1900"}

{"sheet":"How To","index":0,"n_rows":37,"n_cols":37,"rows_kept":37,"merged":[[0,17,4,26],[1,1,1,10],[3,1,3,10],[11,1,12,1],[11,2,12,2],[11,3,12,3],[11,4,12,4],[11,5,11,8],[11,9,12,9],[11,10,12,10],[11,11,12,11],[11,12,12,12],[11,13,12,13],[11,14,12,14],[11,15,12,15],[11,16,11,21],[11,22,11,31],[11,32,11,35],[11,36,12,36],[29,3,29,6],[30,3,30,5],[31,3,31,5],[32,3,32,5],[33,3,33,5],[34,3,34,5],[35,3,35,5],[36,3,36,5]]}
[{"$nulls":17},"Les cellules colorées se remplissent automatiquement. \nColored cells are automatically filled.\n* Les cours seront dispensés en Français et en Anglais\n*  Courses will be given in French and in English"]
[null,"Comment remplir la feuille \"Inscrip.\" : Exemples"]
[]
[null,"How to fill the sheet \"Inscrip.\": Examples"]
{"$rows_empty":7}
[null,"Nom\nName","Prénom\nSurname","Nom Complet\nFull Name","Participant ou Accompagnant\nAttending or Accompanying Pers.\nChanger si nécessaire\nChange if necessary","Grade\nRank",{"$nulls":3},"Pays\nCountry","Date de Naissance\nDate of Birth\nAAAA/MM/JJ\nYYYY/MM/DD","Age","* Parle Français\n* Speak French","* Parle Anglais\n* Speak English","* Langue Maternelle\n* Mother Language","Bus Local\nLocal Bus","Nuités\nNights",{"$nulls":5},"Restauration\nCatering",{"$nulls":9},"Montant\nPrices",{"$nulls":3},"Facture\nInvoice"]
[{"$nulls":5},"DAN","Libellé\nWording","Date d'obtention\nGraduation Date\nAAAA/MM/JJ\nYYYY/MM/DD","Titre\nTitle",{"$nulls":7},"Choix Chambre\nRoom Choice\nChanger si nécessaire\nChange if necessary","Choix Chambre 'Couple' : nom 2ème pers\nRoom Choice 'Couple' : name 2nd pers","Ven/Sam\nFri/Sat","Sam/Dim\nSat/Sun","Dim/Lun\nSun/Mon","Lun/Mar\nMon/Tue","Végétarien\nVegetarian","Sans Gluten\nGluten Free","Autre\nOther\nFormat libre\nFree text","Ven / Fri\n30/06/2023\nSoir / Dinner","Sam / Sat\n01/07/2023\nMidi / Lunch","Sam / Sat\n01/07/2023\nSoir / Dinner","Dim / Sun\n02/07/2023\nMidi / Lunch","Dim / Sun\n02/07/2023\nSoir / Dinner","Lun / Mon\n03/07/2023\nMidi / Lunch","Lun / Mon\n03/07/2023\nSoir / Dinner","Stage","Bus","Nuitées\nNights","Restauration\nCatering"]
[null,"Monnom","Monprénom",{"$f":"CONCATENATE(UPPER(B14),\" \",UPPER(C14))","v":"MONNOM MONPRÉNOM"},"Participant - Attending",2,{"$f":"IF(CELL(\"type\",F14)=\"i\",\"\",VLOOKUP(F14,T_DAN,2))","v":"Nidan"},"2018-08-12","Aucun - None","France","1975-08-15",{"$f":"YEAR(TODAY())-YEAR(K14)","v":48},"Oui - Yes","Non - No","French","Non - No","Aucune / None",null,"Non - No","Non - No","Non - No","Non - No","Non - No","Oui - Yes",null,"Non - No","Oui - Yes","Non - No","Oui - Yes","Non - No","Oui - Yes","Non - No",{"$f":"IF(E14=\"Participant - Attending\",IF(CONCATENATE(UPPER(B14),\" \",UPPER(C14))=\" \",\"\",P_Stg),\"\")","v":{"v":75,"d":"75.00 €"}},{"$f":"IF(CONCATENATE(UPPER(B14),\" \",UPPER(C14))=\" \",\"\",TECH!K6)","v":0},{"$f":"IF(CONCATENATE(UPPER(B14),\" \",UPPER(C14))=\" \",\"\",TECH!Q6)","v":0},{"$f":"3*P_RMidi","v":{"v":43.5,"d":"43.50 €"}},{"$f":"SUM(AG14:AJ14)","v":{"v":118.5,"d":"118.50 €"}}]
[null,"Myname","Mysurname","MYNAME MYSURNAME","Participant - Attending",5,"Godan","2011-05-15","Renshi","Germany","1965-09-06",{"$f":"YEAR(TODAY())-YEAR(K15)","v":58},"Non - No","Oui - Yes","German","Oui - Yes","Couple","MYFRIEND HISSURNAME","Oui - Yes","Oui - Yes","Oui - Yes","Oui - Yes","Oui - Yes","Non - No",null,"Oui - Yes","Oui - Yes","Non - No","Oui - Yes","Oui - Yes","Oui - Yes","Non - No",{"$f":"IF(E15=\"Participant - Attending\",IF(CONCATENATE(UPPER(B15),\" \",UPPER(C15))=\" \",\"\",P_Stg),\"\")","v":{"v":75,"d":"75.00 €"}},{"$f":"P_Bus","v":{"v":17,"d":"17.00 €"}},{"$f":"4*P_N1","v":{"v":180,"d":"180.00 €"}},{"$f":"(2*P_Rsoir)+(3*P_RMidi)","v":{"v":73.5,"d":"73.50 €"}},{"$f":"SUM(AG15:AJ15)","v":{"v":345.5,"d":"345.50 €"}}]
[null,"MyFriend","HisSurname","MYFRIEND HISSURNAME","Accompagnant - Accompanying Pers",{"$nulls":7},"Oui - Yes","Oui - Yes","German","Oui - Yes","Couple","MYNAME MYSURNAME","Oui - Yes","Oui - Yes","Oui - Yes","Oui - Yes","Non - No","Non - No",null,"Oui - Yes","Oui - Yes","Non - No","Oui - Yes","Oui - Yes","Oui - Yes","Non - No",{"$f":"IF(E16=\"Participant - Attending\",IF(CONCATENATE(UPPER(B16),\" \",UPPER(C16))=\" \",\"\",P_Stg),\"\")","v":""},{"v":17,"d":"17.00 €"},{"$f":"4*P_N1","v":{"v":180,"d":"180.00 €"}},{"$f":"(2*P_Rsoir)+(3*P_RMidi)","v":{"v":73.5,"d":"73.50 €"}},{"v":270.5,"d":"270.50 €"}]
[{"$nulls":3}," ","Participant - Attending",null,"Mudan",{"$nulls":25},{"$f":"IF(E17=\"Participant - Attending\",IF(CONCATENATE(UPPER(B17),\" \",UPPER(C17))=\" \",\"\",P_Stg),\"\")","v":""},{"$f":"IF(CONCATENATE(UPPER(B17),\" \",UPPER(C17))=\" \",\"\",TECH!K8)","v":""},{"$f":"IF(CONCATENATE(UPPER(B17),\" \",UPPER(C17))=\" \",\"\",TECH!Q8)","v":""},{"$f":"IF(CONCATENATE(UPPER(B17),\" \",UPPER(C17))=\" \",\"\",TECH!Y8)","v":""},0]
{"$rows_empty":12}
[{"$nulls":3},"Tarifs - Prices"]
[{"$nulls":3},"Prix stage - SeminarFees",null,null,{"v":75,"d":"75.00 €"}]
[{"$nulls":3},"Repas Midi - Lunch",null,null,{"v":14.5,"d":"14.50 €"}]
[{"$nulls":3},"Repas Soir - Dinner",null,null,{"v":15,"d":"15.00 €"}]
[{"$nulls":3},"Chambre individuelle / nuit - 1 pers room / night",null,null,{"v":45,"d":"45.00 €"}]
[{"$nulls":3},"Chambre double / nuit / pers - 2 pers room / night / pers",null,null,{"v":40,"d":"40.00 €"}]
[{"$nulls":3},"Chambre collective (4) / Nuits / pers - 4 pers room / night / pers",null,null,{"v":35,"d":"35.00 €"}]
[{"$nulls":3},"Bus local / Local Bus",null,null,{"v":17,"d":"17.00 €"}]

{"sheet":"Inscrip.","index":1,"n_rows":61,"n_cols":39,"rows_kept":61,"merged":[[0,2,0,4],[0,8,2,13],[4,4,4,10],[6,1,7,1],[6,2,7,2],[6,3,7,3],[6,4,7,4],[6,5,7,5],[6,6,6,9],[6,10,7,10],[6,11,7,11],[6,12,7,12],[6,13,7,13],[6,14,7,14],[6,15,7,15],[6,16,7,16],[6,17,7,17],[6,18,6,23],[6,24,6,33],[6,34,6,37],[6,38,7,38],[60,1,60,17]]}
[null,null,"Inscriptions / Registration",{"$nulls":5},"Les cellules colorées se remplissent automatiquement. \nColored cells are automatically filled.\n* Les cours seront dispensés en Français et en Anglais\n*  Courses will be given in French and in English"]
[]
[null,null,"Nombre d'Inscrits :\nNumber of entries :  ",{"$f":"SUM(B9:B59)","v":51}]
[]
[null,null,"Montant total des inscriptions :\nTotal amount for entries   ",{"$f":"SUM(AM9:AM59)","v":0},"◄Cette somme est à virer sur le compte de kyudo Chablais (IBAN dans le fichier \"Invitation au stage européen\")\n◄This amount has to be transferred to the acccount of Kyudo-Chablais (IBAN in the file \"European Seminar Invitation\")"]
[]
[null,"CPT","Nom de Famille\nFamily Name","Prénom\nFist Name","Nom Complet\nFull Name","Participant ou Accompagnant\nAttending or Accompanying Pers.\nChanger si nécessaire\nChange if necessary","Grade\nRank",{"$nulls":3},"Pays\nCountry\nréponse en Anglais\nAnswer in English","Date de Naissance\nDate of Birth\nAAAA/MM/JJ\nYYYY/MM/DD","Age","Zasha\nRissha\nChanger si nécessaire\nChange if necessary","* Parle Français\n* Speak French","* Parle Anglais\n* Speak English","* Langue Maternelle\n* Mother Language\nréponse en Anglais\nAnswer in English","Bus Local\nLocal Bus","Nuités\nNights",{"$nulls":5},"Restauration\nCatering",{"$nulls":9},"Montant\nAmount",{"$nulls":3},"Facture\nInvoice"]
[{"$nulls":6},"DAN","Libellé\nWording","Date d'obtention\nGraduation Date\nAAAA/MM/JJ\nYYYY/MM/DD","Titre\nTitle\nChanger si nécessaire\nChange if necessary",{"$nulls":8},"Choix Chambre\nRoom Choice\nChanger si nécessaire\nChange if necessary","Choix Chambre 'Couple' : nom 2ème pers\nRoom Choice 'Couple' : name 2nd pers","Ven/Sam\n30/6/23\nFri/Sat","Sam/Dim\n1/7/23\nSat/Sun","Dim/Lun\n2/7/23\nSun/Mon","Lun/Mar\n3/7/23\nMon/Tue","Végétarien\nVegetarian","Sans Gluten\nGluten Free","Autre Contrainte alimentaire\nOther food restriction\nFormat libre\nFree text","Ven / Fri\n30/06/2023\nSoir / Dinner","Sam / Sat\n01/07/2023\nMidi / Lunch","Sam / Sat\n01/07/2023\nSoir / Dinner","Dim / Sun\n02/07/2023\nMidi / Lunch","Dim / Sun\n02/07/2023\nSoir / Dinner","Lun / Mon\n03/07/2023\nMidi / Lunch","Lun / Mon\n03/07/2023\nSoir / Dinner","Stage","Bus","Nuitées\nNights","Restauration\nCatering"]
[null,{"$f":"IF(CELL(\"type\",C9)=\"i\",\"\",1)","v":1},null,null,{"$f":"CONCATENATE(UPPER(C9),\" \",UPPER(D9))","v":" "},"Participant - Attending",null,{"$f":"IF(CELL(\"type\",G9)=\"i\",\"\",VLOOKUP(G9,T_DAN,2))","v":"Mudan"},null,"Aucun - None",null,null,{"$f":"IF(AND(CELL(\"type\",L9)<>\"i\",B9=1),YEAR(TODAY())-YEAR(L9),\"\")","v":123},"Zasha",{"$nulls":4},"Aucune / None",{"$nulls":15},{"$f":"IF(F9=\"Participant - Attending\",IF(CONCATENATE(UPPER(C9),\" \",UPPER(D9))=\" \",\"\",P_Stg),\"\")","v":""},{"$f":"IF(CONCATENATE(UPPER(C9),\" \",UPPER(D9))=\" \",\"\",TECH!M9)","v":""},{"$f":"IF(CONCATENATE(UPPER(C9),\" \",UPPER(D9))=\" \",\"\",TECH!S9)","v":""},{"$f":"IF(CONCATENATE(UPPER(C9),\" \",UPPER(D9))=\" \",\"\",TECH!AA9)","v":""},{"$f":"SUM(AI9:AL9)","v":0}]
[null,1,null,null," ","Participant - Attending",null,"Mudan",null,"Aucun - None",null,null,123,"Zasha",{"$nulls":4},"Aucune / None",{"$nulls":15},"",{"$f":"IF(CONCATENATE(UPPER(C10),\" \",UPPER(D10))=\" \",\"\",TECH!M10)","v":""},{"$f":"IF(CONCATENATE(UPPER(C10),\" \",UPPER(D10))=\" \",\"\",TECH!S10)","v":""},{"$f":"IF(CONCATENATE(UPPER(C10),\" \",UPPER(D10))=\" \",\"\",TECH!AA10)","v":""},{"$f":"SUM(AI10:AL10)","v":0}]
[null,1,null,null," ","Participant - Attending",null,"Mudan",null,"Aucun - None",null,null,123,"Zasha",{"$nulls":4},"Aucune / None",{"$nulls":15},"",{"$f":"IF(CONCATENATE(UPPER(C11),\" \",UPPER(D11))=\" \",\"\",TECH!M11)","v":""},{"$f":"IF(CONCATENATE(UPPER(C11),\" \",UPPER(D11))=\" \",\"\",TECH!S11)","v":""},{"$f":"IF(CONCATENATE(UPPER(C11),\" \",UPPER(D11))=\" \",\"\",TECH!AA11)","v":""},0]
[null,1,null,null," ","Participant - Attending",null,"Mudan",null,"Aucun - None",null,null,123,"Zasha",{"$nulls":4},"Aucune / None",{"$nulls":15},"",{"$f":"IF(CONCATENATE(UPPER(C12),\" \",UPPER(D12))=\" \",\"\",TECH!M12)","v":""},{"$f":"IF(CONCATENATE(UPPER(C12),\" \",UPPER(D12))=\" \",\"\",TECH!S12)","v":""},{"$f":"IF(CONCATENATE(UPPER(C12),\" \",UPPER(D12))=\" \",\"\",TECH!AA12)","v":""},0]
[null,1,null,null," ","Participant - Attending",null,"Mudan",null,"Aucun - None",null,null,123,"Zasha",{"$nulls":4},"Aucune / None",{"$nulls":15},"",{"$f":"IF(CONCATENATE(UPPER(C13),\" \",UPPER(D13))=\" \",\"\",TECH!M13)","v":""},{"$f":"IF(CONCATENATE(UPPER(C13),\" \",UPPER(D13))=\" \",\"\",TECH!S13)","v":""},{"$f":"IF(CONCATENATE(UPPER(C13),\" \",UPPER(D13))=\" \",\"\",TECH!AA13)","v":""},0]
[null,1,null,null," ","Participant - Attending",null,"Mudan",null,"Aucun - None",null,null,123,"Zasha",{"$nulls":4},"Aucune / None",{"$nulls":15},"",{"$f":"IF(CONCATENATE(UPPER(C14),\" \",UPPER(D14))=\" \",\"\",TECH!M14)","v":""},{"$f":"IF(CONCATENATE(UPPER(C14),\" \",UPPER(D14))=\" \",\"\",TECH!S14)","v":""},{"$f":"IF(CONCATENATE(UPPER(C14),\" \",UPPER(D14))=\" \",\"\",TECH!AA14)","v":""},0]
[null,1,null,null," ","Participant - Attending",null,"Mudan",null,"Aucun - None",null,null,123,"Zasha",{"$nulls":4},"Aucune / None",{"$nulls":15},"",{"$f":"IF(CONCATENATE(UPPER(C15),\" \",UPPER(D15))=\" \",\"\",TECH!M15)","v":""},{"$f":"IF(CONCATENATE(UPPER(C15),\" \",UPPER(D15))=\" \",\"\",TECH!S15)","v":""},{"$f":"IF(CONCATENATE(UPPER(C15),\" \",UPPER(D15))=\" \",\"\",TECH!AA15)","v":""},0]
[null,1,null,null," ","Participant - Attending",null,"Mudan",null,"Aucun - None",null,null,123,"Zasha",{"$nulls":4},"Aucune / None",{"$nulls":15},"",{"$f":"IF(CONCATENATE(UPPER(C16),\" \",UPPER(D16))=\" \",\"\",TECH!M16)","v":""},{"$f":"IF(CONCATENATE(UPPER(C16),\" \",UPPER(D16))=\" \",\"\",TECH!S16)","v":""},{"$f":"IF(CONCATENATE(UPPER(C16),\" \",UPPER(D16))=\" \",\"\",TECH!AA16)","v":""},0]
[null,1,null,null," ","Participant - Attending",null,"Mudan",null,"Aucun - None",null,null,123,"Zasha",{"$nulls":4},"Aucune / None",{"$nulls":15},"",{"$f":"IF(CONCATENATE(UPPER(C17),\" \",UPPER(D17))=\" \",\"\",TECH!M17)","v":""},{"$f":"IF(CONCATENATE(UPPER(C17),\" \",UPPER(D17))=\" \",\"\",TECH!S17)","v":""},{"$f":"IF(CONCATENATE(UPPER(C17),\" \",UPPER(D17))=\" \",\"\",TECH!AA17)","v":""},0]
[null,1,null,null," ","Participant - Attending",null,"Mudan",null,"Aucun - None",null,null,123,"Zasha",{"$nulls":4},"Aucune / None",{"$nulls":15},"",{"$f":"IF(CONCATENATE(UPPER(C18),\" \",UPPER(D18))=\" \",\"\",TECH!M18)","v":""},{"$f":"IF(CONCATENATE(UPPER(C18),\" \",UPPER(D18))=\" \",\"\",TECH!S18)","v":""},{"$f":"IF(CONCATENATE(UPPER(C18),\" \",UPPER(D18))=\" \",\"\",TECH!AA18)","v":""},0]
[null,1,null,null," ","Participant - Attending",null,"Mudan",null,"Aucun - None",null,null,123,"Zasha",{"$nulls":4},"Aucune / None",{"$nulls":15},"",{"$f":"IF(CONCATENATE(UPPER(C19),\" \",UPPER(D19))=\" \",\"\",TECH!M19)","v":""},{"$f":"IF(CONCATENATE(UPPER(C19),\" \",UPPER(D19))=\" \",\"\",TECH!S19)","v":""},{"$f":"IF(CONCATENATE(UPPER(C19),\" \",UPPER(D19))=\" \",\"\",TECH!AA19)","v":""},0]
[null,1,null,null," ","Participant - Attending",null,"Mudan",null,"Aucun - None",null,null,123,"Zasha",{"$nulls":4},"Aucune / None",{"$nulls":15},"",{"$f":"IF(CONCATENATE(UPPER(C20),\" \",UPPER(D20))=\" \",\"\",TECH!M20)","v":""},{"$f":"IF(CONCATENATE(UPPER(C20),\" \",UPPER(D20))=\" \",\"\",TECH!S20)","v":""},{"$f":"IF(CONCATENATE(UPPER(C20),\" \",UPPER(D20))=\" \",\"\",TECH!AA20)","v":""},0]
[null,1,null,null," ","Participant - Attending",null,"Mudan",null,"Aucun - None",null,null,123,"Zasha",{"$nulls":4},"Aucune / None",{"$nulls":15},"",{"$f":"IF(CONCATENATE(UPPER(C21),\" \",UPPER(D21))=\" \",\"\",TECH!M21)","v":""},{"$f":"IF(CONCATENATE(UPPER(C21),\" \",UPPER(D21))=\" \",\"\",TECH!S21)","v":""},{"$f":"IF(CONCATENATE(UPPER(C21),\" \",UPPER(D21))=\" \",\"\",TECH!AA21)","v":""},0]
[null,1,null,null," ","Participant - Attending",null,"Mudan",null,"Aucun - None",null,null,123,"Zasha",{"$nulls":4},"Aucune / None",{"$nulls":15},"",{"$f":"IF(CONCATENATE(UPPER(C22),\" \",UPPER(D22))=\" \",\"\",TECH!M22)","v":""},{"$f":"IF(CONCATENATE(UPPER(C22),\" \",UPPER(D22))=\" \",\"\",TECH!S22)","v":""},{"$f":"IF(CONCATENATE(UPPER(C22),\" \",UPPER(D22))=\" \",\"\",TECH!AA22)","v":""},0]
[null,1,null,null," ","Participant - Attending",null,"Mudan",null,"Aucun - None",null,null,123,"Zasha",{"$nulls":4},"Aucune / None",{"$nulls":15},"",{"$f":"IF(CONCATENATE(UPPER(C23),\" \",UPPER(D23))=\" \",\"\",TECH!M23)","v":""},{"$f":"IF(CONCATENATE(UPPER(C23),\" \",UPPER(D23))=\" \",\"\",TECH!S23)","v":""},{"$f":"IF(CONCATENATE(UPPER(C23),\" \",UPPER(D23))=\" \",\"\",TECH!AA23)","v":""},0]
[null,1,null,null," ","Participant - Attending",null,"Mudan",null,"Aucun - None",null,null,123,"Zasha",{"$nulls":4},"Aucune / None",{"$nulls":15},"",{"$f":"IF(CONCATENATE(UPPER(C24),\" \",UPPER(D24))=\" \",\"\",TECH!M24)","v":""},{"$f":"IF(CONCATENATE(UPPER(C24),\" \",UPPER(D24))=\" \",\"\",TECH!S24)","v":""},{"$f":"IF(CONCATENATE(UPPER(C24),\" \",UPPER(D24))=\" \",\"\",TECH!AA24)","v":""},0]
[null,1,null,null," ","Participant - Attending",null,"Mudan",null,"Aucun - None",null,null,123,"Zasha",{"$nulls":4},"Aucune / None",{"$nulls":15},"",{"$f":"IF(CONCATENATE(UPPER(C25),\" \",UPPER(D25))=\" \",\"\",TECH!M25)","v":""},{"$f":"IF(CONCATENATE(UPPER(C25),\" \",UPPER(D25))=\" \",\"\",TECH!S25)","v":""},{"$f":"IF(CONCATENATE(UPPER(C25),\" \",UPPER(D25))=\" \",\"\",TECH!AA25)","v":""},0]
[null,1,null,null," ","Participant - Attending",null,"Mudan",null,"Aucun - None",null,null,123,"Zasha",{"$nulls":4},"Aucune / None",{"$nulls":15},"",{"$f":"IF(CONCATENATE(UPPER(C26),\" \",UPPER(D26))=\" \",\"\",TECH!M26)","v":""},{"$f":"IF(CONCATENATE(UPPER(C26),\" \",UPPER(D26))=\" \",\"\",TECH!S26)","v":""},{"$f":"IF(CONCATENATE(UPPER(C26),\" \",UPPER(D26))=\" \",\"\",TECH!AA26)","v":""},0]
[null,1,null,null," ","Participant - Attending",null,"Mudan",null,"Aucun - None",null,null,123,"Zasha",{"$nulls":4},"Aucune / None",{"$nulls":15},"",{"$f":"IF(CONCATENATE(UPPER(C27),\" \",UPPER(D27))=\" \",\"\",TECH!M27)","v":""},{"$f":"IF(CONCATENATE(UPPER(C27),\" \",UPPER(D27))=\" \",\"\",TECH!S27)","v":""},{"$f":"IF(CONCATENATE(UPPER(C27),\" \",UPPER(D27))=\" \",\"\",TECH!AA27)","v":""},0]
[null,1,null,null," ","Participant - Attending",null,"Mudan",null,"Aucun - None",null,null,123,"Zasha",{"$nulls":4},"Aucune / None",{"$nulls":15},"",{"$f":"IF(CONCATENATE(UPPER(C28),\" \",UPPER(D28))=\" \",\"\",TECH!M28)","v":""},{"$f":"IF(CONCATENATE(UPPER(C28),\" \",UPPER(D28))=\" \",\"\",TECH!S28)","v":""},{"$f":"IF(CONCATENATE(UPPER(C28),\" \",UPPER(D28))=\" \",\"\",TECH!AA28)","v":""},0]
[null,1,null,null," ","Participant - Attending",null,"Mudan",null,"Aucun - None",null,null,123,"Zasha",{"$nulls":4},"Aucune / None",{"$nulls":15},"",{"$f":"IF(CONCATENATE(UPPER(C29),\" \",UPPER(D29))=\" \",\"\",TECH!M29)","v":""},{"$f":"IF(CONCATENATE(UPPER(C29),\" \",UPPER(D29))=\" \",\"\",TECH!S29)","v":""},{"$f":"IF(CONCATENATE(UPPER(C29),\" \",UPPER(D29))=\" \",\"\",TECH!AA29)","v":""},0]
[null,1,null,null," ","Participant - Attending",null,"Mudan",null,"Aucun - None",null,null,123,"Zasha",{"$nulls":4},"Aucune / None",{"$nulls":15},"",{"$f":"IF(CONCATENATE(UPPER(C30),\" \",UPPER(D30))=\" \",\"\",TECH!M30)","v":""},{"$f":"IF(CONCATENATE(UPPER(C30),\" \",UPPER(D30))=\" \",\"\",TECH!S30)","v":""},{"$f":"IF(CONCATENATE(UPPER(C30),\" \",UPPER(D30))=\" \",\"\",TECH!AA30)","v":""},0]
[null,1,null,null," ","Participant - Attending",null,"Mudan",null,"Aucun - None",null,null,123,"Zasha",{"$nulls":4},"Aucune / None",{"$nulls":15},"",{"$f":"IF(CONCATENATE(UPPER(C31),\" \",UPPER(D31))=\" \",\"\",TECH!M31)","v":""},{"$f":"IF(CONCATENATE(UPPER(C31),\" \",UPPER(D31))=\" \",\"\",TECH!S31)","v":""},{"$f":"IF(CONCATENATE(UPPER(C31),\" \",UPPER(D31))=\" \",\"\",TECH!AA31)","v":""},0]
[null,1,null,null," ","Participant - Attending",null,"Mudan",null,"Aucun - None",null,null,123,"Zasha",{"$nulls":4},"Aucune / None",{"$nulls":15},"",{"$f":"IF(CONCATENATE(UPPER(C32),\" \",UPPER(D32))=\" \",\"\",TECH!M32)","v":""},{"$f":"IF(CONCATENATE(UPPER(C32),\" \",UPPER(D32))=\" \",\"\",TECH!S32)","v":""},{"$f":"IF(CONCATENATE(UPPER(C32),\" \",UPPER(D32))=\" \",\"\",TECH!AA32)","v":""},0]
[null,1,null,null," ","Participant - Attending",null,"Mudan",null,"Aucun - None",null,null,123,"Zasha",{"$nulls":4},"Aucune / None",{"$nulls":15},"",{"$f":"IF(CONCATENATE(UPPER(C33),\" \",UPPER(D33))=\" \",\"\",TECH!M33)","v":""},{"$f":"IF(CONCATENATE(UPPER(C33),\" \",UPPER(D33))=\" \",\"\",TECH!S33)","v":""},{"$f":"IF(CONCATENATE(UPPER(C33),\" \",UPPER(D33))=\" \",\"\",TECH!AA33)","v":""},0]
[null,1,null,null," ","Participant - Attending",null,"Mudan",null,"Aucun - None",null,null,123,"Zasha",{"$nulls":4},"Aucune / None",{"$nulls":15},"",{"$f":"IF(CONCATENATE(UPPER(C34),\" \",UPPER(D34))=\" \",\"\",TECH!M34)","v":""},{"$f":"IF(CONCATENATE(UPPER(C34),\" \",UPPER(D34))=\" \",\"\",TECH!S34)","v":""},{"$f":"IF(CONCATENATE(UPPER(C34),\" \",UPPER(D34))=\" \",\"\",TECH!AA34)","v":""},0]
[null,1,null,null," ","Participant - Attending",null,"Mudan",null,"Aucun - None",null,null,123,"Zasha",{"$nulls":4},"Aucune / None",{"$nulls":15},"",{"$f":"IF(CONCATENATE(UPPER(C35),\" \",UPPER(D35))=\" \",\"\",TECH!M35)","v":""},{"$f":"IF(CONCATENATE(UPPER(C35),\" \",UPPER(D35))=\" \",\"\",TECH!S35)","v":""},{"$f":"IF(CONCATENATE(UPPER(C35),\" \",UPPER(D35))=\" \",\"\",TECH!AA35)","v":""},0]
[null,1,null,null," ","Participant - Attending",null,"Mudan",null,"Aucun - None",null,null,123,"Zasha",{"$nulls":4},"Aucune / None",{"$nulls":15},"",{"$f":"IF(CONCATENATE(UPPER(C36),\" \",UPPER(D36))=\" \",\"\",TECH!M36)","v":""},{"$f":"IF(CONCATENATE(UPPER(C36),\" \",UPPER(D36))=\" \",\"\",TECH!S36)","v":""},{"$f":"IF(CONCATENATE(UPPER(C36),\" \",UPPER(D36))=\" \",\"\",TECH!AA36)","v":""},0]
[null,1,null,null," ","Participant - Attending",null,"Mudan",null,"Aucun - None",null,null,123,"Zasha",{"$nulls":4},"Aucune / None",{"$nulls":15},"",{"$f":"IF(CONCATENATE(UPPER(C37),\" \",UPPER(D37))=\" \",\"\",TECH!M37)","v":""},{"$f":"IF(CONCATENATE(UPPER(C37),\" \",UPPER(D37))=\" \",\"\",TECH!S37)","v":""},{"$f":"IF(CONCATENATE(UPPER(C37),\" \",UPPER(D37))=\" \",\"\",TECH!AA37)","v":""},0]
[null,1,null,null," ","Participant - Attending",null,"Mudan",null,"Aucun - None",null,null,123,"Zasha",{"$nulls":4},"Aucune / None",{"$nulls":15},"",{"$f":"IF(CONCATENATE(UPPER(C38),\" \",UPPER(D38))=\" \",\"\",TECH!M38)","v":""},{"$f":"IF(CONCATENATE(UPPER(C38),\" \",UPPER(D38))=\" \",\"\",TECH!S38)","v":""},{"$f":"IF(CONCATENATE(UPPER(C38),\" \",UPPER(D38))=\" \",\"\",TECH!AA38)","v":""},0]
[null,1,null,null," ","Participant - Attending",null,"Mudan",null,"Aucun - None",null,null,123,"Zasha",{"$nulls":4},"Aucune / None",{"$nulls":15},"",{"$f":"IF(CONCATENATE(UPPER(C39),\" \",UPPER(D39))=\" \",\"\",TECH!M39)","v":""},{"$f":"IF(CONCATENATE(UPPER(C39),\" \",UPPER(D39))=\" \",\"\",TECH!S39)","v":""},{"$f":"IF(CONCATENATE(UPPER(C39),\" \",UPPER(D39))=\" \",\"\",TECH!AA39)","v":""},0]
[null,1,null,null," ","Participant - Attending",null,"Mudan",null,"Aucun - None",null,null,123,"Zasha",{"$nulls":4},"Aucune / None",{"$nulls":15},"",{"$f":"IF(CONCATENATE(UPPER(C40),\" \",UPPER(D40))=\" \",\"\",TECH!M40)","v":""},{"$f":"IF(CONCATENATE(UPPER(C40),\" \",UPPER(D40))=\" \",\"\",TECH!S40)","v":""},{"$f":"IF(CONCATENATE(UPPER(C40),\" \",UPPER(D40))=\" \",\"\",TECH!AA40)","v":""},0]
[null,1,null,null," ","Participant - Attending",null,{"$f":"IF(CELL(\"type\",G41)=\"i\",\"\",VLOOKUP(G41,T_DAN,2))","v":"Mudan"},null,"Aucun - None",null,null,{"$f":"IF(AND(CELL(\"type\",L41)<>\"i\",B41=1),YEAR(TODAY())-YEAR(L41),\"\")","v":123},"Zasha",{"$nulls":4},"Aucune / None",{"$nulls":15},{"$f":"IF(F41=\"Participant - Attending\",IF(CONCATENATE(UPPER(C41),\" \",UPPER(D41))=\" \",\"\",P_Stg),\"\")","v":""},{"$f":"IF(CONCATENATE(UPPER(C41),\" \",UPPER(D41))=\" \",\"\",TECH!M41)","v":""},{"$f":"IF(CONCATENATE(UPPER(C41),\" \",UPPER(D41))=\" \",\"\",TECH!S41)","v":""},{"$f":"IF(CONCATENATE(UPPER(C41),\" \",UPPER(D41))=\" \",\"\",TECH!AA41)","v":""},0]
[null,1,null,null," ","Participant - Attending",null,"Mudan",null,"Aucun - None",null,null,123,"Zasha",{"$nulls":4},"Aucune / None",{"$nulls":15},"",{"$f":"IF(CONCATENATE(UPPER(C42),\" \",UPPER(D42))=\" \",\"\",TECH!M42)","v":""},{"$f":"IF(CONCATENATE(UPPER(C42),\" \",UPPER(D42))=\" \",\"\",TECH!S42)","v":""},{"$f":"IF(CONCATENATE(UPPER(C42),\" \",UPPER(D42))=\" \",\"\",TECH!AA42)","v":""},0]
[null,1,null,null," ","Participant - Attending",null,"Mudan",null,"Aucun - None",null,null,123,"Zasha",{"$nulls":4},"Aucune / None",{"$nulls":15},"",{"$f":"IF(CONCATENATE(UPPER(C43),\" \",UPPER(D43))=\" \",\"\",TECH!M43)","v":""},{"$f":"IF(CONCATENATE(UPPER(C43),\" \",UPPER(D43))=\" \",\"\",TECH!S43)","v":""},{"$f":"IF(CONCATENATE(UPPER(C43),\" \",UPPER(D43))=\" \",\"\",TECH!AA43)","v":""},0]
[null,1,null,null," ","Participant - Attending",null,"Mudan",null,"Aucun - None",null,null,123,"Zasha",{"$nulls":4},"Aucune / None",{"$nulls":15},"",{"$f":"IF(CONCATENATE(UPPER(C44),\" \",UPPER(D44))=\" \",\"\",TECH!M44)","v":""},{"$f":"IF(CONCATENATE(UPPER(C44),\" \",UPPER(D44))=\" \",\"\",TECH!S44)","v":""},{"$f":"IF(CONCATENATE(UPPER(C44),\" \",UPPER(D44))=\" \",\"\",TECH!AA44)","v":""},0]
[null,{"$f":"IF(CELL(\"type\",C45)=\"i\",\"\",1)","v":1},null,null,{"$f":"CONCATENATE(UPPER(C45),\" \",UPPER(D45))","v":" "},"Participant - Attending",null,"Mudan",null,"Aucun - None",null,null,123,"Zasha",{"$nulls":4},"Aucune / None",{"$nulls":15},"",{"$f":"IF(CONCATENATE(UPPER(C45),\" \",UPPER(D45))=\" \",\"\",TECH!M45)","v":""},{"$f":"IF(CONCATENATE(UPPER(C45),\" \",UPPER(D45))=\" \",\"\",TECH!S45)","v":""},{"$f":"IF(CONCATENATE(UPPER(C45),\" \",UPPER(D45))=\" \",\"\",TECH!AA45)","v":""},0]
[null,{"$f":"IF(CELL(\"type\",C46)=\"i\",\"\",1)","v":1},null,null,{"$f":"CONCATENATE(UPPER(C46),\" \",UPPER(D46))","v":" "},"Participant - Attending",null,"Mudan",null,"Aucun - None",null,null,123,"Zasha",{"$nulls":4},"Aucune / None",{"$nulls":15},"",{"$f":"IF(CONCATENATE(UPPER(C46),\" \",UPPER(D46))=\" \",\"\",TECH!M46)","v":""},{"$f":"IF(CONCATENATE(UPPER(C46),\" \",UPPER(D46))=\" \",\"\",TECH!S46)","v":""},{"$f":"IF(CONCATENATE(UPPER(C46),\" \",UPPER(D46))=\" \",\"\",TECH!AA46)","v":""},0]
[null,1,null,null," ","Participant - Attending",null,"Mudan",null,"Aucun - None",null,null,123,"Zasha",{"$nulls":4},"Aucune / None",{"$nulls":15},"",{"$f":"IF(CONCATENATE(UPPER(C47),\" \",UPPER(D47))=\" \",\"\",TECH!M47)","v":""},{"$f":"IF(CONCATENATE(UPPER(C47),\" \",UPPER(D47))=\" \",\"\",TECH!S47)","v":""},{"$f":"IF(CONCATENATE(UPPER(C47),\" \",UPPER(D47))=\" \",\"\",TECH!AA47)","v":""},0]
[null,1,null,null," ","Participant - Attending",null,"Mudan",null,"Aucun - None",null,null,123,"Zasha",{"$nulls":4},"Aucune / None",{"$nulls":15},"",{"$f":"IF(CONCATENATE(UPPER(C48),\" \",UPPER(D48))=\" \",\"\",TECH!M48)","v":""},{"$f":"IF(CONCATENATE(UPPER(C48),\" \",UPPER(D48))=\" \",\"\",TECH!S48)","v":""},{"$f":"IF(CONCATENATE(UPPER(C48),\" \",UPPER(D48))=\" \",\"\",TECH!AA48)","v":""},0]
[null,1,null,null," ","Participant - Attending",null,"Mudan",null,"Aucun - None",null,null,123,"Zasha",{"$nulls":4},"Aucune / None",{"$nulls":15},"",{"$f":"IF(CONCATENATE(UPPER(C49),\" \",UPPER(D49))=\" \",\"\",TECH!M49)","v":""},{"$f":"IF(CONCATENATE(UPPER(C49),\" \",UPPER(D49))=\" \",\"\",TECH!S49)","v":""},{"$f":"IF(CONCATENATE(UPPER(C49),\" \",UPPER(D49))=\" \",\"\",TECH!AA49)","v":""},0]
[null,1,null,null," ","Participant - Attending",null,"Mudan",null,"Aucun - None",null,null,123,"Zasha",{"$nulls":4},"Aucune / None",{"$nulls":15},"",{"$f":"IF(CONCATENATE(UPPER(C50),\" \",UPPER(D50))=\" \",\"\",TECH!M50)","v":""},{"$f":"IF(CONCATENATE(UPPER(C50),\" \",UPPER(D50))=\" \",\"\",TECH!S50)","v":""},{"$f":"IF(CONCATENATE(UPPER(C50),\" \",UPPER(D50))=\" \",\"\",TECH!AA50)","v":""},0]
[null,1,null,null," ","Participant - Attending",null,"Mudan",null,"Aucun - None",null,null,123,"Zasha",{"$nulls":4},"Aucune / None",{"$nulls":15},"",{"$f":"IF(CONCATENATE(UPPER(C51),\" \",UPPER(D51))=\" \",\"\",TECH!M51)","v":""},{"$f":"IF(CONCATENATE(UPPER(C51),\" \",UPPER(D51))=\" \",\"\",TECH!S51)","v":""},{"$f":"IF(CONCATENATE(UPPER(C51),\" \",UPPER(D51))=\" \",\"\",TECH!AA51)","v":""},0]
[null,1,null,null," ","Participant - Attending",null,"Mudan",null,"Aucun - None",null,null,123,"Zasha",{"$nulls":4},"Aucune / None",{"$nulls":15},"",{"$f":"IF(CONCATENATE(UPPER(C52),\" \",UPPER(D52))=\" \",\"\",TECH!M52)","v":""},{"$f":"IF(CONCATENATE(UPPER(C52),\" \",UPPER(D52))=\" \",\"\",TECH!S52)","v":""},{"$f":"IF(CONCATENATE(UPPER(C52),\" \",UPPER(D52))=\" \",\"\",TECH!AA52)","v":""},0]
[null,1,null,null," ","Participant - Attending",null,"Mudan",null,"Aucun - None",null,null,123,"Zasha",{"$nulls":4},"Aucune / None",{"$nulls":15},"",{"$f":"IF(CONCATENATE(UPPER(C53),\" \",UPPER(D53))=\" \",\"\",TECH!M53)","v":""},{"$f":"IF(CONCATENATE(UPPER(C53),\" \",UPPER(D53))=\" \",\"\",TECH!S53)","v":""},{"$f":"IF(CONCATENATE(UPPER(C53),\" \",UPPER(D53))=\" \",\"\",TECH!AA53)","v":""},0]
[null,1,null,null," ","Participant - Attending",null,"Mudan",null,"Aucun - None",null,null,123,"Zasha",{"$nulls":4},"Aucune / None",{"$nulls":15},"",{"$f":"IF(CONCATENATE(UPPER(C54),\" \",UPPER(D54))=\" \",\"\",TECH!M54)","v":""},{"$f":"IF(CONCATENATE(UPPER(C54),\" \",UPPER(D54))=\" \",\"\",TECH!S54)","v":""},{"$f":"IF(CONCATENATE(UPPER(C54),\" \",UPPER(D54))=\" \",\"\",TECH!AA54)","v":""},0]
[null,1,null,null," ","Participant - Attending",null,"Mudan",null,"Aucun - None",null,null,123,"Zasha",{"$nulls":4},"Aucune / None",{"$nulls":15},"",{"$f":"IF(CONCATENATE(UPPER(C55),\" \",UPPER(D55))=\" \",\"\",TECH!M55)","v":""},{"$f":"IF(CONCATENATE(UPPER(C55),\" \",UPPER(D55))=\" \",\"\",TECH!S55)","v":""},{"$f":"IF(CONCATENATE(UPPER(C55),\" \",UPPER(D55))=\" \",\"\",TECH!AA55)","v":""},0]
[null,1,null,null," ","Participant - Attending",null,"Mudan",null,"Aucun - None",null,null,123,"Zasha",{"$nulls":4},"Aucune / None",{"$nulls":15},"",{"$f":"IF(CONCATENATE(UPPER(C56),\" \",UPPER(D56))=\" \",\"\",TECH!M56)","v":""},{"$f":"IF(CONCATENATE(UPPER(C56),\" \",UPPER(D56))=\" \",\"\",TECH!S56)","v":""},{"$f":"IF(CONCATENATE(UPPER(C56),\" \",UPPER(D56))=\" \",\"\",TECH!AA56)","v":""},0]
[null,1,null,null," ","Participant - Attending",null,"Mudan",null,"Aucun - None",null,null,123,"Zasha",{"$nulls":4},"Aucune / None",{"$nulls":15},"",{"$f":"IF(CONCATENATE(UPPER(C57),\" \",UPPER(D57))=\" \",\"\",TECH!M57)","v":""},{"$f":"IF(CONCATENATE(UPPER(C57),\" \",UPPER(D57))=\" \",\"\",TECH!S57)","v":""},{"$f":"IF(CONCATENATE(UPPER(C57),\" \",UPPER(D57))=\" \",\"\",TECH!AA57)","v":""},0]
[null,1,null,null," ","Participant - Attending",null,"Mudan",null,"Aucun - None",null,null,123,"Zasha",{"$nulls":4},"Aucune / None",{"$nulls":15},"",{"$f":"IF(CONCATENATE(UPPER(C58),\" \",UPPER(D58))=\" \",\"\",TECH!M58)","v":""},{"$f":"IF(CONCATENATE(UPPER(C58),\" \",UPPER(D58))=\" \",\"\",TECH!S58)","v":""},{"$f":"IF(CONCATENATE(UPPER(C58),\" \",UPPER(D58))=\" \",\"\",TECH!AA58)","v":""},0]
[null,{"$f":"IF(CELL(\"type\",C59)=\"i\",\"\",1)","v":1},null,null,{"$f":"CONCATENATE(UPPER(C59),\" \",UPPER(D59))","v":" "},"Participant - Attending",null,"Mudan",null,"Aucun - None",null,null,123,"Zasha",{"$nulls":4},"Aucune / None",{"$nulls":15},"",{"$f":"IF(CONCATENATE(UPPER(C59),\" \",UPPER(D59))=\" \",\"\",TECH!M59)","v":""},{"$f":"IF(CONCATENATE(UPPER(C59),\" \",UPPER(D59))=\" \",\"\",TECH!S59)","v":""},{"$f":"IF(CONCATENATE(UPPER(C59),\" \",UPPER(D59))=\" \",\"\",TECH!AA59)","v":""},0]
[]
[null,"Si vous avez plus de 50 inscrits, envoyez un second fichier s'il vous plait (nommez les fichiers : inscriptions-recording#1 et inscriptions-recording#2)\nIf you have more than 50 entries, please send a second file (name the files: inscriptions-recording#1 and inscriptions-recording#2)"]

{"sheet":"TECH","index":2,"n_rows":62,"n_cols":27,"rows_kept":62,"hidden":true,"merged":[[1,1,1,2],[6,12,7,12],[6,13,7,13],[6,14,6,18],[6,19,6,26],[24,1,30,6]]}
[]
[null,"DAN"]
[null,0,"Mudan",null,"Oui/Non - Yes/No",null,"Chambres / Rooms"]
[null,1,"Shodan",null,"Oui - Yes",null,"Aucune / None"]
[null,2,"Nidan",null,"Non - No",null,"Autre / Other"]
[null,3,"Sandan",{"$nulls":3},"Couple"]
[null,4,"Yondan",null,"Zasha / Rissha",null,"Individuel / Alone",{"$nulls":5},"Bus","Room","Nuits / Nights",{"$nulls":4},"Restauration"]
[null,5,"Godan",null,"Zasha",{"$nulls":9},"V/S","S/D","D/L","L/M","Total","VS","SM","SS","DM","DS","LM","LS","Total_Cat"]
[null,6,"Rokudan",null,"Rissha",{"$nulls":7},{"$f":"IF(Inscrip.!R9=\"Oui - Yes\",P_Bus,0)","v":0},{"$f":"IF(Inscrip.!S9=\"Autre / Other\",P_N4,IF(Inscrip.!S9=\"Individuel / Alone\",P_N1,IF(Inscrip.!S9=\"Couple\",P_N2,IF(Inscrip.!S9=\"Aucune / None\",0,\"Err\"))))","v":0},{"$f":"IF(Inscrip.!U9=\"Oui - Yes\",1,0)","v":0},{"$f":"IF(Inscrip.!V9=\"Oui - Yes\",1,0)","v":0},{"$f":"IF(Inscrip.!W9=\"Oui - Yes\",1,0)","v":0},{"$f":"IF(Inscrip.!X9=\"Oui - Yes\",1,0)","v":0},{"$f":"SUM(O9:R9)*N9","v":0},{"$f":"IF(Inscrip.!AB9=\"Oui - Yes\",P_Rsoir,0)","v":0},{"$f":"IF(Inscrip.!AC9=\"Oui - Yes\",P_RMidi,0)","v":0},{"$f":"IF(Inscrip.!AD9=\"Oui - Yes\",P_Rsoir,0)","v":0},{"$f":"IF(Inscrip.!AE9=\"Oui - Yes\",P_RMidi,0)","v":0},{"$f":"IF(Inscrip.!AF9=\"Oui - Yes\",P_Rsoir,0)","v":0},{"$f":"IF(Inscrip.!AG9=\"Oui - Yes\",P_RMidi,0)","v":0},{"$f":"IF(Inscrip.!AH9=\"Oui - Yes\",P_Rsoir,0)","v":0},{"$f":"SUM(T9:Z9)","v":0}]
[null,7,"Nanadan",{"$nulls":9},{"$f":"IF(Inscrip.!R10=\"Oui - Yes\",P_Bus,0)","v":0},{"$f":"IF(Inscrip.!S10=\"Autre / Other\",P_N4,IF(Inscrip.!S10=\"Individuel / Alone\",P_N1,IF(Inscrip.!S10=\"Couple\",P_N2,IF(Inscrip.!S10=\"Aucune / None\",0,\"Err\"))))","v":0},{"$f":"IF(Inscrip.!U10=\"Oui - Yes\",1,0)","v":0},{"$f":"IF(Inscrip.!V10=\"Oui - Yes\",1,0)","v":0},{"$f":"IF(Inscrip.!W10=\"Oui - Yes\",1,0)","v":0},{"$f":"IF(Inscrip.!X10=\"Oui - Yes\",1,0)","v":0},{"$f":"SUM(O10:R10)*N10","v":0},{"$f":"IF(Inscrip.!AB10=\"Oui - Yes\",P_Rsoir,0)","v":0},{"$f":"IF(Inscrip.!AC10=\"Oui - Yes\",P_RMidi,0)","v":0},{"$f":"IF(Inscrip.!AD10=\"Oui - Yes\",P_Rsoir,0)","v":0},{"$f":"IF(Inscrip.!AE10=\"Oui - Yes\",P_RMidi,0)","v":0},{"$f":"IF(Inscrip.!AF10=\"Oui - Yes\",P_Rsoir,0)","v":0},{"$f":"IF(Inscrip.!AG10=\"Oui - Yes\",P_RMidi,0)","v":0},{"$f":"IF(Inscrip.!AH10=\"Oui - Yes\",P_Rsoir,0)","v":0},{"$f":"SUM(T10:Z10)","v":0}]
[null,8,"Hachidan",null,"Titre",{"$nulls":7},{"$f":"IF(Inscrip.!R11=\"Oui - Yes\",P_Bus,0)","v":0},{"$f":"IF(Inscrip.!S11=\"Autre / Other\",P_N4,IF(Inscrip.!S11=\"Individuel / Alone\",P_N1,IF(Inscrip.!S11=\"Couple\",P_N2,IF(Inscrip.!S11=\"Aucune / None\",0,\"Err\"))))","v":0},{"$f":"IF(Inscrip.!U11=\"Oui - Yes\",1,0)","v":0},{"$f":"IF(Inscrip.!V11=\"Oui - Yes\",1,0)","v":0},{"$f":"IF(Inscrip.!W11=\"Oui - Yes\",1,0)","v":0},{"$f":"IF(Inscrip.!X11=\"Oui - Yes\",1,0)","v":0},0,{"$f":"IF(Inscrip.!AB11=\"Oui - Yes\",P_Rsoir,0)","v":0},{"$f":"IF(Inscrip.!AC11=\"Oui - Yes\",P_RMidi,0)","v":0},{"$f":"IF(Inscrip.!AD11=\"Oui - Yes\",P_Rsoir,0)","v":0},{"$f":"IF(Inscrip.!AE11=\"Oui - Yes\",P_RMidi,0)","v":0},{"$f":"IF(Inscrip.!AF11=\"Oui - Yes\",P_Rsoir,0)","v":0},{"$f":"IF(Inscrip.!AG11=\"Oui - Yes\",P_RMidi,0)","v":0},{"$f":"IF(Inscrip.!AH11=\"Oui - Yes\",P_Rsoir,0)","v":0},0]
[null,9,"Kudan",null,"Aucun - None",{"$nulls":7},{"$f":"IF(Inscrip.!R12=\"Oui - Yes\",P_Bus,0)","v":0},{"$f":"IF(Inscrip.!S12=\"Autre / Other\",P_N4,IF(Inscrip.!S12=\"Individuel / Alone\",P_N1,IF(Inscrip.!S12=\"Couple\",P_N2,IF(Inscrip.!S12=\"Aucune / None\",0,\"Err\"))))","v":0},{"$f":"IF(Inscrip.!U12=\"Oui - Yes\",1,0)","v":0},{"$f":"IF(Inscrip.!V12=\"Oui - Yes\",1,0)","v":0},{"$f":"IF(Inscrip.!W12=\"Oui - Yes\",1,0)","v":0},{"$f":"IF(Inscrip.!X12=\"Oui - Yes\",1,0)","v":0},0,{"$f":"IF(Inscrip.!AB12=\"Oui - Yes\",P_Rsoir,0)","v":0},{"$f":"IF(Inscrip.!AC12=\"Oui - Yes\",P_RMidi,0)","v":0},{"$f":"IF(Inscrip.!AD12=\"Oui - Yes\",P_Rsoir,0)","v":0},{"$f":"IF(Inscrip.!AE12=\"Oui - Yes\",P_RMidi,0)","v":0},{"$f":"IF(Inscrip.!AF12=\"Oui - Yes\",P_Rsoir,0)","v":0},{"$f":"IF(Inscrip.!AG12=\"Oui - Yes\",P_RMidi,0)","v":0},{"$f":"IF(Inscrip.!AH12=\"Oui - Yes\",P_Rsoir,0)","v":0},0]
[null,10,"Judan",null,"Renshi",{"$nulls":7},{"$f":"IF(Inscrip.!R13=\"Oui - Yes\",P_Bus,0)","v":0},{"$f":"IF(Inscrip.!S13=\"Autre / Other\",P_N4,IF(Inscrip.!S13=\"Individuel / Alone\",P_N1,IF(Inscrip.!S13=\"Couple\",P_N2,IF(Inscrip.!S13=\"Aucune / None\",0,\"Err\"))))","v":0},{"$f":"IF(Inscrip.!U13=\"Oui - Yes\",1,0)","v":0},{"$f":"IF(Inscrip.!V13=\"Oui - Yes\",1,0)","v":0},{"$f":"IF(Inscrip.!W13=\"Oui - Yes\",1,0)","v":0},{"$f":"IF(Inscrip.!X13=\"Oui - Yes\",1,0)","v":0},0,{"$f":"IF(Inscrip.!AB13=\"Oui - Yes\",P_Rsoir,0)","v":0},{"$f":"IF(Inscrip.!AC13=\"Oui - Yes\",P_RMidi,0)","v":0},{"$f":"IF(Inscrip.!AD13=\"Oui - Yes\",P_Rsoir,0)","v":0},{"$f":"IF(Inscrip.!AE13=\"Oui - Yes\",P_RMidi,0)","v":0},{"$f":"IF(Inscrip.!AF13=\"Oui - Yes\",P_Rsoir,0)","v":0},{"$f":"IF(Inscrip.!AG13=\"Oui - Yes\",P_RMidi,0)","v":0},{"$f":"IF(Inscrip.!AH13=\"Oui - Yes\",P_Rsoir,0)","v":0},0]
[{"$nulls":4},"Kyoshi",{"$nulls":7},{"$f":"IF(Inscrip.!R14=\"Oui - Yes\",P_Bus,0)","v":0},{"$f":"IF(Inscrip.!S14=\"Autre / Other\",P_N4,IF(Inscrip.!S14=\"Individuel / Alone\",P_N1,IF(Inscrip.!S14=\"Couple\",P_N2,IF(Inscrip.!S14=\"Aucune / None\",0,\"Err\"))))","v":0},{"$f":"IF(Inscrip.!U14=\"Oui - Yes\",1,0)","v":0},{"$f":"IF(Inscrip.!V14=\"Oui - Yes\",1,0)","v":0},{"$f":"IF(Inscrip.!W14=\"Oui - Yes\",1,0)","v":0},{"$f":"IF(Inscrip.!X14=\"Oui - Yes\",1,0)","v":0},0,{"$f":"IF(Inscrip.!AB14=\"Oui - Yes\",P_Rsoir,0)","v":0},{"$f":"IF(Inscrip.!AC14=\"Oui - Yes\",P_RMidi,0)","v":0},{"$f":"IF(Inscrip.!AD14=\"Oui - Yes\",P_Rsoir,0)","v":0},{"$f":"IF(Inscrip.!AE14=\"Oui - Yes\",P_RMidi,0)","v":0},{"$f":"IF(Inscrip.!AF14=\"Oui - Yes\",P_Rsoir,0)","v":0},{"$f":"IF(Inscrip.!AG14=\"Oui - Yes\",P_RMidi,0)","v":0},{"$f":"IF(Inscrip.!AH14=\"Oui - Yes\",P_Rsoir,0)","v":0},0]
[{"$nulls":4},"Hanshi",{"$nulls":7},{"$f":"IF(Inscrip.!R15=\"Oui - Yes\",P_Bus,0)","v":0},{"$f":"IF(Inscrip.!S15=\"Autre / Other\",P_N4,IF(Inscrip.!S15=\"Individuel / Alone\",P_N1,IF(Inscrip.!S15=\"Couple\",P_N2,IF(Inscrip.!S15=\"Aucune / None\",0,\"Err\"))))","v":0},{"$f":"IF(Inscrip.!U15=\"Oui - Yes\",1,0)","v":0},{"$f":"IF(Inscrip.!V15=\"Oui - Yes\",1,0)","v":0},{"$f":"IF(Inscrip.!W15=\"Oui - Yes\",1,0)","v":0},{"$f":"IF(Inscrip.!X15=\"Oui - Yes\",1,0)","v":0},0,{"$f":"IF(Inscrip.!AB15=\"Oui - Yes\",P_Rsoir,0)","v":0},{"$f":"IF(Inscrip.!AC15=\"Oui - Yes\",P_RMidi,0)","v":0},{"$f":"IF(Inscrip.!AD15=\"Oui - Yes\",P_Rsoir,0)","v":0},{"$f":"IF(Inscrip.!AE15=\"Oui - Yes\",P_RMidi,0)","v":0},{"$f":"IF(Inscrip.!AF15=\"Oui - Yes\",P_Rsoir,0)","v":0},{"$f":"IF(Inscrip.!AG15=\"Oui - Yes\",P_RMidi,0)","v":0},{"$f":"IF(Inscrip.!AH15=\"Oui - Yes\",P_Rsoir,0)","v":0},0]
[{"$nulls":12},{"$f":"IF(Inscrip.!R16=\"Oui - Yes\",P_Bus,0)","v":0},{"$f":"IF(Inscrip.!S16=\"Autre / Other\",P_N4,IF(Inscrip.!S16=\"Individuel / Alone\",P_N1,IF(Inscrip.!S16=\"Couple\",P_N2,IF(Inscrip.!S16=\"Aucune / None\",0,\"Err\"))))","v":0},{"$f":"IF(Inscrip.!U16=\"Oui - Yes\",1,0)","v":0},{"$f":"IF(Inscrip.!V16=\"Oui - Yes\",1,0)","v":0},{"$f":"IF(Inscrip.!W16=\"Oui - Yes\",1,0)","v":0},{"$f":"IF(Inscrip.!X16=\"Oui - Yes\",1,0)","v":0},0,{"$f":"IF(Inscrip.!AB16=\"Oui - Yes\",P_Rsoir,0)","v":0},{"$f":"IF(Inscrip.!AC16=\"Oui - Yes\",P_RMidi,0)","v":0},{"$f":"IF(Inscrip.!AD16=\"Oui - Yes\",P_Rsoir,0)","v":0},{"$f":"IF(Inscrip.!AE16=\"Oui - Yes\",P_RMidi,0)","v":0},{"$f":"IF(Inscrip.!AF16=\"Oui - Yes\",P_Rsoir,0)","v":0},{"$f":"IF(Inscrip.!AG16=\"Oui - Yes\",P_RMidi,0)","v":0},{"$f":"IF(Inscrip.!AH16=\"Oui - Yes\",P_Rsoir,0)","v":0},0]
[{"$nulls":4},"Pratiquant - Accompagnant",{"$nulls":7},{"$f":"IF(Inscrip.!R17=\"Oui - Yes\",P_Bus,0)","v":0},{"$f":"IF(Inscrip.!S17=\"Autre / Other\",P_N4,IF(Inscrip.!S17=\"Individuel / Alone\",P_N1,IF(Inscrip.!S17=\"Couple\",P_N2,IF(Inscrip.!S17=\"Aucune / None\",0,\"Err\"))))","v":0},{"$f":"IF(Inscrip.!U17=\"Oui - Yes\",1,0)","v":0},{"$f":"IF(Inscrip.!V17=\"Oui - Yes\",1,0)","v":0},{"$f":"IF(Inscrip.!W17=\"Oui - Yes\",1,0)","v":0},{"$f":"IF(Inscrip.!X17=\"Oui - Yes\",1,0)","v":0},0,{"$f":"IF(Inscrip.!AB17=\"Oui - Yes\",P_Rsoir,0)","v":0},{"$f":"IF(Inscrip.!AC17=\"Oui - Yes\",P_RMidi,0)","v":0},{"$f":"IF(Inscrip.!AD17=\"Oui - Yes\",P_Rsoir,0)","v":0},{"$f":"IF(Inscrip.!AE17=\"Oui - Yes\",P_RMidi,0)","v":0},{"$f":"IF(Inscrip.!AF17=\"Oui - Yes\",P_Rsoir,0)","v":0},{"$f":"IF(Inscrip.!AG17=\"Oui - Yes\",P_RMidi,0)","v":0},{"$f":"IF(Inscrip.!AH17=\"Oui - Yes\",P_Rsoir,0)","v":0},0]
[{"$nulls":4},"Participant - Attending",{"$nulls":7},{"$f":"IF(Inscrip.!R18=\"Oui - Yes\",P_Bus,0)","v":0},{"$f":"IF(Inscrip.!S18=\"Autre / Other\",P_N4,IF(Inscrip.!S18=\"Individuel / Alone\",P_N1,IF(Inscrip.!S18=\"Couple\",P_N2,IF(Inscrip.!S18=\"Aucune / None\",0,\"Err\"))))","v":0},{"$f":"IF(Inscrip.!U18=\"Oui - Yes\",1,0)","v":0},{"$f":"IF(Inscrip.!V18=\"Oui - Yes\",1,0)","v":0},{"$f":"IF(Inscrip.!W18=\"Oui - Yes\",1,0)","v":0},{"$f":"IF(Inscrip.!X18=\"Oui - Yes\",1,0)","v":0},0,{"$f":"IF(Inscrip.!AB18=\"Oui - Yes\",P_Rsoir,0)","v":0},{"$f":"IF(Inscrip.!AC18=\"Oui - Yes\",P_RMidi,0)","v":0},{"$f":"IF(Inscrip.!AD18=\"Oui - Yes\",P_Rsoir,0)","v":0},{"$f":"IF(Inscrip.!AE18=\"Oui - Yes\",P_RMidi,0)","v":0},{"$f":"IF(Inscrip.!AF18=\"Oui - Yes\",P_Rsoir,0)","v":0},{"$f":"IF(Inscrip.!AG18=\"Oui - Yes\",P_RMidi,0)","v":0},{"$f":"IF(Inscrip.!AH18=\"Oui - Yes\",P_Rsoir,0)","v":0},0]
[{"$nulls":4},"Accompagnant - Accompanying Pers",{"$nulls":7},{"$f":"IF(Inscrip.!R19=\"Oui - Yes\",P_Bus,0)","v":0},{"$f":"IF(Inscrip.!S19=\"Autre / Other\",P_N4,IF(Inscrip.!S19=\"Individuel / Alone\",P_N1,IF(Inscrip.!S19=\"Couple\",P_N2,IF(Inscrip.!S19=\"Aucune / None\",0,\"Err\"))))","v":0},{"$f":"IF(Inscrip.!U19=\"Oui - Yes\",1,0)","v":0},{"$f":"IF(Inscrip.!V19=\"Oui - Yes\",1,0)","v":0},{"$f":"IF(Inscrip.!W19=\"Oui - Yes\",1,0)","v":0},{"$f":"IF(Inscrip.!X19=\"Oui - Yes\",1,0)","v":0},0,{"$f":"IF(Inscrip.!AB19=\"Oui - Yes\",P_Rsoir,0)","v":0},{"$f":"IF(Inscrip.!AC19=\"Oui - Yes\",P_RMidi,0)","v":0},{"$f":"IF(Inscrip.!AD19=\"Oui - Yes\",P_Rsoir,0)","v":0},{"$f":"IF(Inscrip.!AE19=\"Oui - Yes\",P_RMidi,0)","v":0},{"$f":"IF(Inscrip.!AF19=\"Oui - Yes\",P_Rsoir,0)","v":0},{"$f":"IF(Inscrip.!AG19=\"Oui - Yes\",P_RMidi,0)","v":0},{"$f":"IF(Inscrip.!AH19=\"Oui - Yes\",P_Rsoir,0)","v":0},0]
[{"$nulls":12},{"$f":"IF(Inscrip.!R20=\"Oui - Yes\",P_Bus,0)","v":0},{"$f":"IF(Inscrip.!S20=\"Autre / Other\",P_N4,IF(Inscrip.!S20=\"Individuel / Alone\",P_N1,IF(Inscrip.!S20=\"Couple\",P_N2,IF(Inscrip.!S20=\"Aucune / None\",0,\"Err\"))))","v":0},{"$f":"IF(Inscrip.!U20=\"Oui - Yes\",1,0)","v":0},{"$f":"IF(Inscrip.!V20=\"Oui - Yes\",1,0)","v":0},{"$f":"IF(Inscrip.!W20=\"Oui - Yes\",1,0)","v":0},{"$f":"IF(Inscrip.!X20=\"Oui - Yes\",1,0)","v":0},0,{"$f":"IF(Inscrip.!AB20=\"Oui - Yes\",P_Rsoir,0)","v":0},{"$f":"IF(Inscrip.!AC20=\"Oui - Yes\",P_RMidi,0)","v":0},{"$f":"IF(Inscrip.!AD20=\"Oui - Yes\",P_Rsoir,0)","v":0},{"$f":"IF(Inscrip.!AE20=\"Oui - Yes\",P_RMidi,0)","v":0},{"$f":"IF(Inscrip.!AF20=\"Oui - Yes\",P_Rsoir,0)","v":0},{"$f":"IF(Inscrip.!AG20=\"Oui - Yes\",P_RMidi,0)","v":0},{"$f":"IF(Inscrip.!AH20=\"Oui - Yes\",P_Rsoir,0)","v":0},0]
[{"$nulls":12},{"$f":"IF(Inscrip.!R21=\"Oui - Yes\",P_Bus,0)","v":0},{"$f":"IF(Inscrip.!S21=\"Autre / Other\",P_N4,IF(Inscrip.!S21=\"Individuel / Alone\",P_N1,IF(Inscrip.!S21=\"Couple\",P_N2,IF(Inscrip.!S21=\"Aucune / None\",0,\"Err\"))))","v":0},{"$f":"IF(Inscrip.!U21=\"Oui - Yes\",1,0)","v":0},{"$f":"IF(Inscrip.!V21=\"Oui - Yes\",1,0)","v":0},{"$f":"IF(Inscrip.!W21=\"Oui - Yes\",1,0)","v":0},{"$f":"IF(Inscrip.!X21=\"Oui - Yes\",1,0)","v":0},0,{"$f":"IF(Inscrip.!AB21=\"Oui - Yes\",P_Rsoir,0)","v":0},{"$f":"IF(Inscrip.!AC21=\"Oui - Yes\",P_RMidi,0)","v":0},{"$f":"IF(Inscrip.!AD21=\"Oui - Yes\",P_Rsoir,0)","v":0},{"$f":"IF(Inscrip.!AE21=\"Oui - Yes\",P_RMidi,0)","v":0},{"$f":"IF(Inscrip.!AF21=\"Oui - Yes\",P_Rsoir,0)","v":0},{"$f":"IF(Inscrip.!AG21=\"Oui - Yes\",P_RMidi,0)","v":0},{"$f":"IF(Inscrip.!AH21=\"Oui - Yes\",P_Rsoir,0)","v":0},0]
[{"$nulls":12},{"$f":"IF(Inscrip.!R22=\"Oui - Yes\",P_Bus,0)","v":0},{"$f":"IF(Inscrip.!S22=\"Autre / Other\",P_N4,IF(Inscrip.!S22=\"Individuel / Alone\",P_N1,IF(Inscrip.!S22=\"Couple\",P_N2,IF(Inscrip.!S22=\"Aucune / None\",0,\"Err\"))))","v":0},{"$f":"IF(Inscrip.!U22=\"Oui - Yes\",1,0)","v":0},{"$f":"IF(Inscrip.!V22=\"Oui - Yes\",1,0)","v":0},{"$f":"IF(Inscrip.!W22=\"Oui - Yes\",1,0)","v":0},{"$f":"IF(Inscrip.!X22=\"Oui - Yes\",1,0)","v":0},0,{"$f":"IF(Inscrip.!AB22=\"Oui - Yes\",P_Rsoir,0)","v":0},{"$f":"IF(Inscrip.!AC22=\"Oui - Yes\",P_RMidi,0)","v":0},{"$f":"IF(Inscrip.!AD22=\"Oui - Yes\",P_Rsoir,0)","v":0},{"$f":"IF(Inscrip.!AE22=\"Oui - Yes\",P_RMidi,0)","v":0},{"$f":"IF(Inscrip.!AF22=\"Oui - Yes\",P_Rsoir,0)","v":0},{"$f":"IF(Inscrip.!AG22=\"Oui - Yes\",P_RMidi,0)","v":0},{"$f":"IF(Inscrip.!AH22=\"Oui - Yes\",P_Rsoir,0)","v":0},0]
[{"$nulls":12},{"$f":"IF(Inscrip.!R23=\"Oui - Yes\",P_Bus,0)","v":0},{"$f":"IF(Inscrip.!S23=\"Autre / Other\",P_N4,IF(Inscrip.!S23=\"Individuel / Alone\",P_N1,IF(Inscrip.!S23=\"Couple\",P_N2,IF(Inscrip.!S23=\"Aucune / None\",0,\"Err\"))))","v":0},{"$f":"IF(Inscrip.!U23=\"Oui - Yes\",1,0)","v":0},{"$f":"IF(Inscrip.!V23=\"Oui - Yes\",1,0)","v":0},{"$f":"IF(Inscrip.!W23=\"Oui - Yes\",1,0)","v":0},{"$f":"IF(Inscrip.!X23=\"Oui - Yes\",1,0)","v":0},0,{"$f":"IF(Inscrip.!AB23=\"Oui - Yes\",P_Rsoir,0)","v":0},{"$f":"IF(Inscrip.!AC23=\"Oui - Yes\",P_RMidi,0)","v":0},{"$f":"IF(Inscrip.!AD23=\"Oui - Yes\",P_Rsoir,0)","v":0},{"$f":"IF(Inscrip.!AE23=\"Oui - Yes\",P_RMidi,0)","v":0},{"$f":"IF(Inscrip.!AF23=\"Oui - Yes\",P_Rsoir,0)","v":0},{"$f":"IF(Inscrip.!AG23=\"Oui - Yes\",P_RMidi,0)","v":0},{"$f":"IF(Inscrip.!AH23=\"Oui - Yes\",P_Rsoir,0)","v":0},0]
[{"$nulls":12},{"$f":"IF(Inscrip.!R24=\"Oui - Yes\",P_Bus,0)","v":0},{"$f":"IF(Inscrip.!S24=\"Autre / Other\",P_N4,IF(Inscrip.!S24=\"Individuel / Alone\",P_N1,IF(Inscrip.!S24=\"Couple\",P_N2,IF(Inscrip.!S24=\"Aucune / None\",0,\"Err\"))))","v":0},{"$f":"IF(Inscrip.!U24=\"Oui - Yes\",1,0)","v":0},{"$f":"IF(Inscrip.!V24=\"Oui - Yes\",1,0)","v":0},{"$f":"IF(Inscrip.!W24=\"Oui - Yes\",1,0)","v":0},{"$f":"IF(Inscrip.!X24=\"Oui - Yes\",1,0)","v":0},0,{"$f":"IF(Inscrip.!AB24=\"Oui - Yes\",P_Rsoir,0)","v":0},{"$f":"IF(Inscrip.!AC24=\"Oui - Yes\",P_RMidi,0)","v":0},{"$f":"IF(Inscrip.!AD24=\"Oui - Yes\",P_Rsoir,0)","v":0},{"$f":"IF(Inscrip.!AE24=\"Oui - Yes\",P_RMidi,0)","v":0},{"$f":"IF(Inscrip.!AF24=\"Oui - Yes\",P_Rsoir,0)","v":0},{"$f":"IF(Inscrip.!AG24=\"Oui - Yes\",P_RMidi,0)","v":0},{"$f":"IF(Inscrip.!AH24=\"Oui - Yes\",P_Rsoir,0)","v":0},0]
[null,"Ne pas toucher à cette feuille !\nDon't touch this sheet !",{"$nulls":10},{"$f":"IF(Inscrip.!R25=\"Oui - Yes\",P_Bus,0)","v":0},{"$f":"IF(Inscrip.!S25=\"Autre / Other\",P_N4,IF(Inscrip.!S25=\"Individuel / Alone\",P_N1,IF(Inscrip.!S25=\"Couple\",P_N2,IF(Inscrip.!S25=\"Aucune / None\",0,\"Err\"))))","v":0},{"$f":"IF(Inscrip.!U25=\"Oui - Yes\",1,0)","v":0},{"$f":"IF(Inscrip.!V25=\"Oui - Yes\",1,0)","v":0},{"$f":"IF(Inscrip.!W25=\"Oui - Yes\",1,0)","v":0},{"$f":"IF(Inscrip.!X25=\"Oui - Yes\",1,0)","v":0},0,{"$f":"IF(Inscrip.!AB25=\"Oui - Yes\",P_Rsoir,0)","v":0},{"$f":"IF(Inscrip.!AC25=\"Oui - Yes\",P_RMidi,0)","v":0},{"$f":"IF(Inscrip.!AD25=\"Oui - Yes\",P_Rsoir,0)","v":0},{"$f":"IF(Inscrip.!AE25=\"Oui - Yes\",P_RMidi,0)","v":0},{"$f":"IF(Inscrip.!AF25=\"Oui - Yes\",P_Rsoir,0)","v":0},{"$f":"IF(Inscrip.!AG25=\"Oui - Yes\",P_RMidi,0)","v":0},{"$f":"IF(Inscrip.!AH25=\"Oui - Yes\",P_Rsoir,0)","v":0},0]
[{"$nulls":12},{"$f":"IF(Inscrip.!R26=\"Oui - Yes\",P_Bus,0)","v":0},{"$f":"IF(Inscrip.!S26=\"Autre / Other\",P_N4,IF(Inscrip.!S26=\"Individuel / Alone\",P_N1,IF(Inscrip.!S26=\"Couple\",P_N2,IF(Inscrip.!S26=\"Aucune / None\",0,\"Err\"))))","v":0},{"$f":"IF(Inscrip.!U26=\"Oui - Yes\",1,0)","v":0},{"$f":"IF(Inscrip.!V26=\"Oui - Yes\",1,0)","v":0},{"$f":"IF(Inscrip.!W26=\"Oui - Yes\",1,0)","v":0},{"$f":"IF(Inscrip.!X26=\"Oui - Yes\",1,0)","v":0},0,{"$f":"IF(Inscrip.!AB26=\"Oui - Yes\",P_Rsoir,0)","v":0},{"$f":"IF(Inscrip.!AC26=\"Oui - Yes\",P_RMidi,0)","v":0},{"$f":"IF(Inscrip.!AD26=\"Oui - Yes\",P_Rsoir,0)","v":0},{"$f":"IF(Inscrip.!AE26=\"Oui - Yes\",P_RMidi,0)","v":0},{"$f":"IF(Inscrip.!AF26=\"Oui - Yes\",P_Rsoir,0)","v":0},{"$f":"IF(Inscrip.!AG26=\"Oui - Yes\",P_RMidi,0)","v":0},{"$f":"IF(Inscrip.!AH26=\"Oui - Yes\",P_Rsoir,0)","v":0},0]
[{"$nulls":12},{"$f":"IF(Inscrip.!R27=\"Oui - Yes\",P_Bus,0)","v":0},{"$f":"IF(Inscrip.!S27=\"Autre / Other\",P_N4,IF(Inscrip.!S27=\"Individuel / Alone\",P_N1,IF(Inscrip.!S27=\"Couple\",P_N2,IF(Inscrip.!S27=\"Aucune / None\",0,\"Err\"))))","v":0},{"$f":"IF(Inscrip.!U27=\"Oui - Yes\",1,0)","v":0},{"$f":"IF(Inscrip.!V27=\"Oui - Yes\",1,0)","v":0},{"$f":"IF(Inscrip.!W27=\"Oui - Yes\",1,0)","v":0},{"$f":"IF(Inscrip.!X27=\"Oui - Yes\",1,0)","v":0},0,{"$f":"IF(Inscrip.!AB27=\"Oui - Yes\",P_Rsoir,0)","v":0},{"$f":"IF(Inscrip.!AC27=\"Oui - Yes\",P_RMidi,0)","v":0},{"$f":"IF(Inscrip.!AD27=\"Oui - Yes\",P_Rsoir,0)","v":0},{"$f":"IF(Inscrip.!AE27=\"Oui - Yes\",P_RMidi,0)","v":0},{"$f":"IF(Inscrip.!AF27=\"Oui - Yes\",P_Rsoir,0)","v":0},{"$f":"IF(Inscrip.!AG27=\"Oui - Yes\",P_RMidi,0)","v":0},{"$f":"IF(Inscrip.!AH27=\"Oui - Yes\",P_Rsoir,0)","v":0},0]
[{"$nulls":12},{"$f":"IF(Inscrip.!R28=\"Oui - Yes\",P_Bus,0)","v":0},{"$f":"IF(Inscrip.!S28=\"Autre / Other\",P_N4,IF(Inscrip.!S28=\"Individuel / Alone\",P_N1,IF(Inscrip.!S28=\"Couple\",P_N2,IF(Inscrip.!S28=\"Aucune / None\",0,\"Err\"))))","v":0},{"$f":"IF(Inscrip.!U28=\"Oui - Yes\",1,0)","v":0},{"$f":"IF(Inscrip.!V28=\"Oui - Yes\",1,0)","v":0},{"$f":"IF(Inscrip.!W28=\"Oui - Yes\",1,0)","v":0},{"$f":"IF(Inscrip.!X28=\"Oui - Yes\",1,0)","v":0},0,{"$f":"IF(Inscrip.!AB28=\"Oui - Yes\",P_Rsoir,0)","v":0},{"$f":"IF(Inscrip.!AC28=\"Oui - Yes\",P_RMidi,0)","v":0},{"$f":"IF(Inscrip.!AD28=\"Oui - Yes\",P_Rsoir,0)","v":0},{"$f":"IF(Inscrip.!AE28=\"Oui - Yes\",P_RMidi,0)","v":0},{"$f":"IF(Inscrip.!AF28=\"Oui - Yes\",P_Rsoir,0)","v":0},{"$f":"IF(Inscrip.!AG28=\"Oui - Yes\",P_RMidi,0)","v":0},{"$f":"IF(Inscrip.!AH28=\"Oui - Yes\",P_Rsoir,0)","v":0},0]
[{"$nulls":12},{"$f":"IF(Inscrip.!R29=\"Oui - Yes\",P_Bus,0)","v":0},{"$f":"IF(Inscrip.!S29=\"Autre / Other\",P_N4,IF(Inscrip.!S29=\"Individuel / Alone\",P_N1,IF(Inscrip.!S29=\"Couple\",P_N2,IF(Inscrip.!S29=\"Aucune / None\",0,\"Err\"))))","v":0},{"$f":"IF(Inscrip.!U29=\"Oui - Yes\",1,0)","v":0},{"$f":"IF(Inscrip.!V29=\"Oui - Yes\",1,0)","v":0},{"$f":"IF(Inscrip.!W29=\"Oui - Yes\",1,0)","v":0},{"$f":"IF(Inscrip.!X29=\"Oui - Yes\",1,0)","v":0},0,{"$f":"IF(Inscrip.!AB29=\"Oui - Yes\",P_Rsoir,0)","v":0},{"$f":"IF(Inscrip.!AC29=\"Oui - Yes\",P_RMidi,0)","v":0},{"$f":"IF(Inscrip.!AD29=\"Oui - Yes\",P_Rsoir,0)","v":0},{"$f":"IF(Inscrip.!AE29=\"Oui - Yes\",P_RMidi,0)","v":0},{"$f":"IF(Inscrip.!AF29=\"Oui - Yes\",P_Rsoir,0)","v":0},{"$f":"IF(Inscrip.!AG29=\"Oui - Yes\",P_RMidi,0)","v":0},{"$f":"IF(Inscrip.!AH29=\"Oui - Yes\",P_Rsoir,0)","v":0},0]
[{"$nulls":12},{"$f":"IF(Inscrip.!R30=\"Oui - Yes\",P_Bus,0)","v":0},{"$f":"IF(Inscrip.!S30=\"Autre / Other\",P_N4,IF(Inscrip.!S30=\"Individuel / Alone\",P_N1,IF(Inscrip.!S30=\"Couple\",P_N2,IF(Inscrip.!S30=\"Aucune / None\",0,\"Err\"))))","v":0},{"$f":"IF(Inscrip.!U30=\"Oui - Yes\",1,0)","v":0},{"$f":"IF(Inscrip.!V30=\"Oui - Yes\",1,0)","v":0},{"$f":"IF(Inscrip.!W30=\"Oui - Yes\",1,0)","v":0},{"$f":"IF(Inscrip.!X30=\"Oui - Yes\",1,0)","v":0},0,{"$f":"IF(Inscrip.!AB30=\"Oui - Yes\",P_Rsoir,0)","v":0},{"$f":"IF(Inscrip.!AC30=\"Oui - Yes\",P_RMidi,0)","v":0},{"$f":"IF(Inscrip.!AD30=\"Oui - Yes\",P_Rsoir,0)","v":0},{"$f":"IF(Inscrip.!AE30=\"Oui - Yes\",P_RMidi,0)","v":0},{"$f":"IF(Inscrip.!AF30=\"Oui - Yes\",P_Rsoir,0)","v":0},{"$f":"IF(Inscrip.!AG30=\"Oui - Yes\",P_RMidi,0)","v":0},{"$f":"IF(Inscrip.!AH30=\"Oui - Yes\",P_Rsoir,0)","v":0},0]
[{"$nulls":12},{"$f":"IF(Inscrip.!R31=\"Oui - Yes\",P_Bus,0)","v":0},{"$f":"IF(Inscrip.!S31=\"Autre / Other\",P_N4,IF(Inscrip.!S31=\"Individuel / Alone\",P_N1,IF(Inscrip.!S31=\"Couple\",P_N2,IF(Inscrip.!S31=\"Aucune / None\",0,\"Err\"))))","v":0},{"$f":"IF(Inscrip.!U31=\"Oui - Yes\",1,0)","v":0},{"$f":"IF(Inscrip.!V31=\"Oui - Yes\",1,0)","v":0},{"$f":"IF(Inscrip.!W31=\"Oui - Yes\",1,0)","v":0},{"$f":"IF(Inscrip.!X31=\"Oui - Yes\",1,0)","v":0},0,{"$f":"IF(Inscrip.!AB31=\"Oui - Yes\",P_Rsoir,0)","v":0},{"$f":"IF(Inscrip.!AC31=\"Oui - Yes\",P_RMidi,0)","v":0},{"$f":"IF(Inscrip.!AD31=\"Oui - Yes\",P_Rsoir,0)","v":0},{"$f":"IF(Inscrip.!AE31=\"Oui - Yes\",P_RMidi,0)","v":0},{"$f":"IF(Inscrip.!AF31=\"Oui - Yes\",P_Rsoir,0)","v":0},{"$f":"IF(Inscrip.!AG31=\"Oui - Yes\",P_RMidi,0)","v":0},{"$f":"IF(Inscrip.!AH31=\"Oui - Yes\",P_Rsoir,0)","v":0},0]
[{"$nulls":12},{"$f":"IF(Inscrip.!R32=\"Oui - Yes\",P_Bus,0)","v":0},{"$f":"IF(Inscrip.!S32=\"Autre / Other\",P_N4,IF(Inscrip.!S32=\"Individuel / Alone\",P_N1,IF(Inscrip.!S32=\"Couple\",P_N2,IF(Inscrip.!S32=\"Aucune / None\",0,\"Err\"))))","v":0},{"$f":"IF(Inscrip.!U32=\"Oui - Yes\",1,0)","v":0},{"$f":"IF(Inscrip.!V32=\"Oui - Yes\",1,0)","v":0},{"$f":"IF(Inscrip.!W32=\"Oui - Yes\",1,0)","v":0},{"$f":"IF(Inscrip.!X32=\"Oui - Yes\",1,0)","v":0},0,{"$f":"IF(Inscrip.!AB32=\"Oui - Yes\",P_Rsoir,0)","v":0},{"$f":"IF(Inscrip.!AC32=\"Oui - Yes\",P_RMidi,0)","v":0},{"$f":"IF(Inscrip.!AD32=\"Oui - Yes\",P_Rsoir,0)","v":0},{"$f":"IF(Inscrip.!AE32=\"Oui - Yes\",P_RMidi,0)","v":0},{"$f":"IF(Inscrip.!AF32=\"Oui - Yes\",P_Rsoir,0)","v":0},{"$f":"IF(Inscrip.!AG32=\"Oui - Yes\",P_RMidi,0)","v":0},{"$f":"IF(Inscrip.!AH32=\"Oui - Yes\",P_Rsoir,0)","v":0},0]
[{"$nulls":12},{"$f":"IF(Inscrip.!R33=\"Oui - Yes\",P_Bus,0)","v":0},{"$f":"IF(Inscrip.!S33=\"Autre / Other\",P_N4,IF(Inscrip.!S33=\"Individuel / Alone\",P_N1,IF(Inscrip.!S33=\"Couple\",P_N2,IF(Inscrip.!S33=\"Aucune / None\",0,\"Err\"))))","v":0},{"$f":"IF(Inscrip.!U33=\"Oui - Yes\",1,0)","v":0},{"$f":"IF(Inscrip.!V33=\"Oui - Yes\",1,0)","v":0},{"$f":"IF(Inscrip.!W33=\"Oui - Yes\",1,0)","v":0},{"$f":"IF(Inscrip.!X33=\"Oui - Yes\",1,0)","v":0},0,{"$f":"IF(Inscrip.!AB33=\"Oui - Yes\",P_Rsoir,0)","v":0},{"$f":"IF(Inscrip.!AC33=\"Oui - Yes\",P_RMidi,0)","v":0},{"$f":"IF(Inscrip.!AD33=\"Oui - Yes\",P_Rsoir,0)","v":0},{"$f":"IF(Inscrip.!AE33=\"Oui - Yes\",P_RMidi,0)","v":0},{"$f":"IF(Inscrip.!AF33=\"Oui - Yes\",P_Rsoir,0)","v":0},{"$f":"IF(Inscrip.!AG33=\"Oui - Yes\",P_RMidi,0)","v":0},{"$f":"IF(Inscrip.!AH33=\"Oui - Yes\",P_Rsoir,0)","v":0},0]
[{"$nulls":12},{"$f":"IF(Inscrip.!R34=\"Oui - Yes\",P_Bus,0)","v":0},{"$f":"IF(Inscrip.!S34=\"Autre / Other\",P_N4,IF(Inscrip.!S34=\"Individuel / Alone\",P_N1,IF(Inscrip.!S34=\"Couple\",P_N2,IF(Inscrip.!S34=\"Aucune / None\",0,\"Err\"))))","v":0},{"$f":"IF(Inscrip.!U34=\"Oui - Yes\",1,0)","v":0},{"$f":"IF(Inscrip.!V34=\"Oui - Yes\",1,0)","v":0},{"$f":"IF(Inscrip.!W34=\"Oui - Yes\",1,0)","v":0},{"$f":"IF(Inscrip.!X34=\"Oui - Yes\",1,0)","v":0},0,{"$f":"IF(Inscrip.!AB34=\"Oui - Yes\",P_Rsoir,0)","v":0},{"$f":"IF(Inscrip.!AC34=\"Oui - Yes\",P_RMidi,0)","v":0},{"$f":"IF(Inscrip.!AD34=\"Oui - Yes\",P_Rsoir,0)","v":0},{"$f":"IF(Inscrip.!AE34=\"Oui - Yes\",P_RMidi,0)","v":0},{"$f":"IF(Inscrip.!AF34=\"Oui - Yes\",P_Rsoir,0)","v":0},{"$f":"IF(Inscrip.!AG34=\"Oui - Yes\",P_RMidi,0)","v":0},{"$f":"IF(Inscrip.!AH34=\"Oui - Yes\",P_Rsoir,0)","v":0},0]
[{"$nulls":12},{"$f":"IF(Inscrip.!R35=\"Oui - Yes\",P_Bus,0)","v":0},{"$f":"IF(Inscrip.!S35=\"Autre / Other\",P_N4,IF(Inscrip.!S35=\"Individuel / Alone\",P_N1,IF(Inscrip.!S35=\"Couple\",P_N2,IF(Inscrip.!S35=\"Aucune / None\",0,\"Err\"))))","v":0},{"$f":"IF(Inscrip.!U35=\"Oui - Yes\",1,0)","v":0},{"$f":"IF(Inscrip.!V35=\"Oui - Yes\",1,0)","v":0},{"$f":"IF(Inscrip.!W35=\"Oui - Yes\",1,0)","v":0},{"$f":"IF(Inscrip.!X35=\"Oui - Yes\",1,0)","v":0},0,{"$f":"IF(Inscrip.!AB35=\"Oui - Yes\",P_Rsoir,0)","v":0},{"$f":"IF(Inscrip.!AC35=\"Oui - Yes\",P_RMidi,0)","v":0},{"$f":"IF(Inscrip.!AD35=\"Oui - Yes\",P_Rsoir,0)","v":0},{"$f":"IF(Inscrip.!AE35=\"Oui - Yes\",P_RMidi,0)","v":0},{"$f":"IF(Inscrip.!AF35=\"Oui - Yes\",P_Rsoir,0)","v":0},{"$f":"IF(Inscrip.!AG35=\"Oui - Yes\",P_RMidi,0)","v":0},{"$f":"IF(Inscrip.!AH35=\"Oui - Yes\",P_Rsoir,0)","v":0},0]
[{"$nulls":12},{"$f":"IF(Inscrip.!R36=\"Oui - Yes\",P_Bus,0)","v":0},{"$f":"IF(Inscrip.!S36=\"Autre / Other\",P_N4,IF(Inscrip.!S36=\"Individuel / Alone\",P_N1,IF(Inscrip.!S36=\"Couple\",P_N2,IF(Inscrip.!S36=\"Aucune / None\",0,\"Err\"))))","v":0},{"$f":"IF(Inscrip.!U36=\"Oui - Yes\",1,0)","v":0},{"$f":"IF(Inscrip.!V36=\"Oui - Yes\",1,0)","v":0},{"$f":"IF(Inscrip.!W36=\"Oui - Yes\",1,0)","v":0},{"$f":"IF(Inscrip.!X36=\"Oui - Yes\",1,0)","v":0},0,{"$f":"IF(Inscrip.!AB36=\"Oui - Yes\",P_Rsoir,0)","v":0},{"$f":"IF(Inscrip.!AC36=\"Oui - Yes\",P_RMidi,0)","v":0},{"$f":"IF(Inscrip.!AD36=\"Oui - Yes\",P_Rsoir,0)","v":0},{"$f":"IF(Inscrip.!AE36=\"Oui - Yes\",P_RMidi,0)","v":0},{"$f":"IF(Inscrip.!AF36=\"Oui - Yes\",P_Rsoir,0)","v":0},{"$f":"IF(Inscrip.!AG36=\"Oui - Yes\",P_RMidi,0)","v":0},{"$f":"IF(Inscrip.!AH36=\"Oui - Yes\",P_Rsoir,0)","v":0},0]
[{"$nulls":12},{"$f":"IF(Inscrip.!R37=\"Oui - Yes\",P_Bus,0)","v":0},{"$f":"IF(Inscrip.!S37=\"Autre / Other\",P_N4,IF(Inscrip.!S37=\"Individuel / Alone\",P_N1,IF(Inscrip.!S37=\"Couple\",P_N2,IF(Inscrip.!S37=\"Aucune / None\",0,\"Err\"))))","v":0},{"$f":"IF(Inscrip.!U37=\"Oui - Yes\",1,0)","v":0},{"$f":"IF(Inscrip.!V37=\"Oui - Yes\",1,0)","v":0},{"$f":"IF(Inscrip.!W37=\"Oui - Yes\",1,0)","v":0},{"$f":"IF(Inscrip.!X37=\"Oui - Yes\",1,0)","v":0},0,{"$f":"IF(Inscrip.!AB37=\"Oui - Yes\",P_Rsoir,0)","v":0},{"$f":"IF(Inscrip.!AC37=\"Oui - Yes\",P_RMidi,0)","v":0},{"$f":"IF(Inscrip.!AD37=\"Oui - Yes\",P_Rsoir,0)","v":0},{"$f":"IF(Inscrip.!AE37=\"Oui - Yes\",P_RMidi,0)","v":0},{"$f":"IF(Inscrip.!AF37=\"Oui - Yes\",P_Rsoir,0)","v":0},{"$f":"IF(Inscrip.!AG37=\"Oui - Yes\",P_RMidi,0)","v":0},{"$f":"IF(Inscrip.!AH37=\"Oui - Yes\",P_Rsoir,0)","v":0},0]
[{"$nulls":12},{"$f":"IF(Inscrip.!R38=\"Oui - Yes\",P_Bus,0)","v":0},{"$f":"IF(Inscrip.!S38=\"Autre / Other\",P_N4,IF(Inscrip.!S38=\"Individuel / Alone\",P_N1,IF(Inscrip.!S38=\"Couple\",P_N2,IF(Inscrip.!S38=\"Aucune / None\",0,\"Err\"))))","v":0},{"$f":"IF(Inscrip.!U38=\"Oui - Yes\",1,0)","v":0},{"$f":"IF(Inscrip.!V38=\"Oui - Yes\",1,0)","v":0},{"$f":"IF(Inscrip.!W38=\"Oui - Yes\",1,0)","v":0},{"$f":"IF(Inscrip.!X38=\"Oui - Yes\",1,0)","v":0},0,{"$f":"IF(Inscrip.!AB38=\"Oui - Yes\",P_Rsoir,0)","v":0},{"$f":"IF(Inscrip.!AC38=\"Oui - Yes\",P_RMidi,0)","v":0},{"$f":"IF(Inscrip.!AD38=\"Oui - Yes\",P_Rsoir,0)","v":0},{"$f":"IF(Inscrip.!AE38=\"Oui - Yes\",P_RMidi,0)","v":0},{"$f":"IF(Inscrip.!AF38=\"Oui - Yes\",P_Rsoir,0)","v":0},{"$f":"IF(Inscrip.!AG38=\"Oui - Yes\",P_RMidi,0)","v":0},{"$f":"IF(Inscrip.!AH38=\"Oui - Yes\",P_Rsoir,0)","v":0},0]
[{"$nulls":12},{"$f":"IF(Inscrip.!R39=\"Oui - Yes\",P_Bus,0)","v":0},{"$f":"IF(Inscrip.!S39=\"Autre / Other\",P_N4,IF(Inscrip.!S39=\"Individuel / Alone\",P_N1,IF(Inscrip.!S39=\"Couple\",P_N2,IF(Inscrip.!S39=\"Aucune / None\",0,\"Err\"))))","v":0},{"$f":"IF(Inscrip.!U39=\"Oui - Yes\",1,0)","v":0},{"$f":"IF(Inscrip.!V39=\"Oui - Yes\",1,0)","v":0},{"$f":"IF(Inscrip.!W39=\"Oui - Yes\",1,0)","v":0},{"$f":"IF(Inscrip.!X39=\"Oui - Yes\",1,0)","v":0},0,{"$f":"IF(Inscrip.!AB39=\"Oui - Yes\",P_Rsoir,0)","v":0},{"$f":"IF(Inscrip.!AC39=\"Oui - Yes\",P_RMidi,0)","v":0},{"$f":"IF(Inscrip.!AD39=\"Oui - Yes\",P_Rsoir,0)","v":0},{"$f":"IF(Inscrip.!AE39=\"Oui - Yes\",P_RMidi,0)","v":0},{"$f":"IF(Inscrip.!AF39=\"Oui - Yes\",P_Rsoir,0)","v":0},{"$f":"IF(Inscrip.!AG39=\"Oui - Yes\",P_RMidi,0)","v":0},{"$f":"IF(Inscrip.!AH39=\"Oui - Yes\",P_Rsoir,0)","v":0},0]
[{"$nulls":12},{"$f":"IF(Inscrip.!R40=\"Oui - Yes\",P_Bus,0)","v":0},{"$f":"IF(Inscrip.!S40=\"Autre / Other\",P_N4,IF(Inscrip.!S40=\"Individuel / Alone\",P_N1,IF(Inscrip.!S40=\"Couple\",P_N2,IF(Inscrip.!S40=\"Aucune / None\",0,\"Err\"))))","v":0},{"$f":"IF(Inscrip.!U40=\"Oui - Yes\",1,0)","v":0},{"$f":"IF(Inscrip.!V40=\"Oui - Yes\",1,0)","v":0},{"$f":"IF(Inscrip.!W40=\"Oui - Yes\",1,0)","v":0},{"$f":"IF(Inscrip.!X40=\"Oui - Yes\",1,0)","v":0},0,{"$f":"IF(Inscrip.!AB40=\"Oui - Yes\",P_Rsoir,0)","v":0},{"$f":"IF(Inscrip.!AC40=\"Oui - Yes\",P_RMidi,0)","v":0},{"$f":"IF(Inscrip.!AD40=\"Oui - Yes\",P_Rsoir,0)","v":0},{"$f":"IF(Inscrip.!AE40=\"Oui - Yes\",P_RMidi,0)","v":0},{"$f":"IF(Inscrip.!AF40=\"Oui - Yes\",P_Rsoir,0)","v":0},{"$f":"IF(Inscrip.!AG40=\"Oui - Yes\",P_RMidi,0)","v":0},{"$f":"IF(Inscrip.!AH40=\"Oui - Yes\",P_Rsoir,0)","v":0},0]
[{"$nulls":12},{"$f":"IF(Inscrip.!R41=\"Oui - Yes\",P_Bus,0)","v":0},{"$f":"IF(Inscrip.!S41=\"Autre / Other\",P_N4,IF(Inscrip.!S41=\"Individuel / Alone\",P_N1,IF(Inscrip.!S41=\"Couple\",P_N2,IF(Inscrip.!S41=\"Aucune / None\",0,\"Err\"))))","v":0},{"$f":"IF(Inscrip.!U41=\"Oui - Yes\",1,0)","v":0},{"$f":"IF(Inscrip.!V41=\"Oui - Yes\",1,0)","v":0},{"$f":"IF(Inscrip.!W41=\"Oui - Yes\",1,0)","v":0},{"$f":"IF(Inscrip.!X41=\"Oui - Yes\",1,0)","v":0},0,{"$f":"IF(Inscrip.!AB41=\"Oui - Yes\",P_Rsoir,0)","v":0},{"$f":"IF(Inscrip.!AC41=\"Oui - Yes\",P_RMidi,0)","v":0},{"$f":"IF(Inscrip.!AD41=\"Oui - Yes\",P_Rsoir,0)","v":0},{"$f":"IF(Inscrip.!AE41=\"Oui - Yes\",P_RMidi,0)","v":0},{"$f":"IF(Inscrip.!AF41=\"Oui - Yes\",P_Rsoir,0)","v":0},{"$f":"IF(Inscrip.!AG41=\"Oui - Yes\",P_RMidi,0)","v":0},{"$f":"IF(Inscrip.!AH41=\"Oui - Yes\",P_Rsoir,0)","v":0},0]
[{"$nulls":12},{"$f":"IF(Inscrip.!R42=\"Oui - Yes\",P_Bus,0)","v":0},{"$f":"IF(Inscrip.!S42=\"Autre / Other\",P_N4,IF(Inscrip.!S42=\"Individuel / Alone\",P_N1,IF(Inscrip.!S42=\"Couple\",P_N2,IF(Inscrip.!S42=\"Aucune / None\",0,\"Err\"))))","v":0},{"$f":"IF(Inscrip.!U42=\"Oui - Yes\",1,0)","v":0},{"$f":"IF(Inscrip.!V42=\"Oui - Yes\",1,0)","v":0},{"$f":"IF(Inscrip.!W42=\"Oui - Yes\",1,0)","v":0},{"$f":"IF(Inscrip.!X42=\"Oui - Yes\",1,0)","v":0},0,{"$f":"IF(Inscrip.!AB42=\"Oui - Yes\",P_Rsoir,0)","v":0},{"$f":"IF(Inscrip.!AC42=\"Oui - Yes\",P_RMidi,0)","v":0},{"$f":"IF(Inscrip.!AD42=\"Oui - Yes\",P_Rsoir,0)","v":0},{"$f":"IF(Inscrip.!AE42=\"Oui - Yes\",P_RMidi,0)","v":0},{"$f":"IF(Inscrip.!AF42=\"Oui - Yes\",P_Rsoir,0)","v":0},{"$f":"IF(Inscrip.!AG42=\"Oui - Yes\",P_RMidi,0)","v":0},{"$f":"IF(Inscrip.!AH42=\"Oui - Yes\",P_Rsoir,0)","v":0},0]
[{"$nulls":12},{"$f":"IF(Inscrip.!R43=\"Oui - Yes\",P_Bus,0)","v":0},{"$f":"IF(Inscrip.!S43=\"Autre / Other\",P_N4,IF(Inscrip.!S43=\"Individuel / Alone\",P_N1,IF(Inscrip.!S43=\"Couple\",P_N2,IF(Inscrip.!S43=\"Aucune / None\",0,\"Err\"))))","v":0},{"$f":"IF(Inscrip.!U43=\"Oui - Yes\",1,0)","v":0},{"$f":"IF(Inscrip.!V43=\"Oui - Yes\",1,0)","v":0},{"$f":"IF(Inscrip.!W43=\"Oui - Yes\",1,0)","v":0},{"$f":"IF(Inscrip.!X43=\"Oui - Yes\",1,0)","v":0},0,{"$f":"IF(Inscrip.!AB43=\"Oui - Yes\",P_Rsoir,0)","v":0},{"$f":"IF(Inscrip.!AC43=\"Oui - Yes\",P_RMidi,0)","v":0},{"$f":"IF(Inscrip.!AD43=\"Oui - Yes\",P_Rsoir,0)","v":0},{"$f":"IF(Inscrip.!AE43=\"Oui - Yes\",P_RMidi,0)","v":0},{"$f":"IF(Inscrip.!AF43=\"Oui - Yes\",P_Rsoir,0)","v":0},{"$f":"IF(Inscrip.!AG43=\"Oui - Yes\",P_RMidi,0)","v":0},{"$f":"IF(Inscrip.!AH43=\"Oui - Yes\",P_Rsoir,0)","v":0},0]
[{"$nulls":12},{"$f":"IF(Inscrip.!R44=\"Oui - Yes\",P_Bus,0)","v":0},{"$f":"IF(Inscrip.!S44=\"Autre / Other\",P_N4,IF(Inscrip.!S44=\"Individuel / Alone\",P_N1,IF(Inscrip.!S44=\"Couple\",P_N2,IF(Inscrip.!S44=\"Aucune / None\",0,\"Err\"))))","v":0},{"$f":"IF(Inscrip.!U44=\"Oui - Yes\",1,0)","v":0},{"$f":"IF(Inscrip.!V44=\"Oui - Yes\",1,0)","v":0},{"$f":"IF(Inscrip.!W44=\"Oui - Yes\",1,0)","v":0},{"$f":"IF(Inscrip.!X44=\"Oui - Yes\",1,0)","v":0},0,{"$f":"IF(Inscrip.!AB44=\"Oui - Yes\",P_Rsoir,0)","v":0},{"$f":"IF(Inscrip.!AC44=\"Oui - Yes\",P_RMidi,0)","v":0},{"$f":"IF(Inscrip.!AD44=\"Oui - Yes\",P_Rsoir,0)","v":0},{"$f":"IF(Inscrip.!AE44=\"Oui - Yes\",P_RMidi,0)","v":0},{"$f":"IF(Inscrip.!AF44=\"Oui - Yes\",P_Rsoir,0)","v":0},{"$f":"IF(Inscrip.!AG44=\"Oui - Yes\",P_RMidi,0)","v":0},{"$f":"IF(Inscrip.!AH44=\"Oui - Yes\",P_Rsoir,0)","v":0},0]
[{"$nulls":12},{"$f":"IF(Inscrip.!R45=\"Oui - Yes\",P_Bus,0)","v":0},{"$f":"IF(Inscrip.!S45=\"Autre / Other\",P_N4,IF(Inscrip.!S45=\"Individuel / Alone\",P_N1,IF(Inscrip.!S45=\"Couple\",P_N2,IF(Inscrip.!S45=\"Aucune / None\",0,\"Err\"))))","v":0},{"$f":"IF(Inscrip.!U45=\"Oui - Yes\",1,0)","v":0},{"$f":"IF(Inscrip.!V45=\"Oui - Yes\",1,0)","v":0},{"$f":"IF(Inscrip.!W45=\"Oui - Yes\",1,0)","v":0},{"$f":"IF(Inscrip.!X45=\"Oui - Yes\",1,0)","v":0},0,{"$f":"IF(Inscrip.!AB45=\"Oui - Yes\",P_Rsoir,0)","v":0},{"$f":"IF(Inscrip.!AC45=\"Oui - Yes\",P_RMidi,0)","v":0},{"$f":"IF(Inscrip.!AD45=\"Oui - Yes\",P_Rsoir,0)","v":0},{"$f":"IF(Inscrip.!AE45=\"Oui - Yes\",P_RMidi,0)","v":0},{"$f":"IF(Inscrip.!AF45=\"Oui - Yes\",P_Rsoir,0)","v":0},{"$f":"IF(Inscrip.!AG45=\"Oui - Yes\",P_RMidi,0)","v":0},{"$f":"IF(Inscrip.!AH45=\"Oui - Yes\",P_Rsoir,0)","v":0},0]
[{"$nulls":12},{"$f":"IF(Inscrip.!R46=\"Oui - Yes\",P_Bus,0)","v":0},{"$f":"IF(Inscrip.!S46=\"Autre / Other\",P_N4,IF(Inscrip.!S46=\"Individuel / Alone\",P_N1,IF(Inscrip.!S46=\"Couple\",P_N2,IF(Inscrip.!S46=\"Aucune / None\",0,\"Err\"))))","v":0},{"$f":"IF(Inscrip.!U46=\"Oui - Yes\",1,0)","v":0},{"$f":"IF(Inscrip.!V46=\"Oui - Yes\",1,0)","v":0},{"$f":"IF(Inscrip.!W46=\"Oui - Yes\",1,0)","v":0},{"$f":"IF(Inscrip.!X46=\"Oui - Yes\",1,0)","v":0},0,{"$f":"IF(Inscrip.!AB46=\"Oui - Yes\",P_Rsoir,0)","v":0},{"$f":"IF(Inscrip.!AC46=\"Oui - Yes\",P_RMidi,0)","v":0},{"$f":"IF(Inscrip.!AD46=\"Oui - Yes\",P_Rsoir,0)","v":0},{"$f":"IF(Inscrip.!AE46=\"Oui - Yes\",P_RMidi,0)","v":0},{"$f":"IF(Inscrip.!AF46=\"Oui - Yes\",P_Rsoir,0)","v":0},{"$f":"IF(Inscrip.!AG46=\"Oui - Yes\",P_RMidi,0)","v":0},{"$f":"IF(Inscrip.!AH46=\"Oui - Yes\",P_Rsoir,0)","v":0},0]
[{"$nulls":12},{"$f":"IF(Inscrip.!R47=\"Oui - Yes\",P_Bus,0)","v":0},{"$f":"IF(Inscrip.!S47=\"Autre / Other\",P_N4,IF(Inscrip.!S47=\"Individuel / Alone\",P_N1,IF(Inscrip.!S47=\"Couple\",P_N2,IF(Inscrip.!S47=\"Aucune / None\",0,\"Err\"))))","v":0},{"$f":"IF(Inscrip.!U47=\"Oui - Yes\",1,0)","v":0},{"$f":"IF(Inscrip.!V47=\"Oui - Yes\",1,0)","v":0},{"$f":"IF(Inscrip.!W47=\"Oui - Yes\",1,0)","v":0},{"$f":"IF(Inscrip.!X47=\"Oui - Yes\",1,0)","v":0},0,{"$f":"IF(Inscrip.!AB47=\"Oui - Yes\",P_Rsoir,0)","v":0},{"$f":"IF(Inscrip.!AC47=\"Oui - Yes\",P_RMidi,0)","v":0},{"$f":"IF(Inscrip.!AD47=\"Oui - Yes\",P_Rsoir,0)","v":0},{"$f":"IF(Inscrip.!AE47=\"Oui - Yes\",P_RMidi,0)","v":0},{"$f":"IF(Inscrip.!AF47=\"Oui - Yes\",P_Rsoir,0)","v":0},{"$f":"IF(Inscrip.!AG47=\"Oui - Yes\",P_RMidi,0)","v":0},{"$f":"IF(Inscrip.!AH47=\"Oui - Yes\",P_Rsoir,0)","v":0},0]
[{"$nulls":12},{"$f":"IF(Inscrip.!R48=\"Oui - Yes\",P_Bus,0)","v":0},{"$f":"IF(Inscrip.!S48=\"Autre / Other\",P_N4,IF(Inscrip.!S48=\"Individuel / Alone\",P_N1,IF(Inscrip.!S48=\"Couple\",P_N2,IF(Inscrip.!S48=\"Aucune / None\",0,\"Err\"))))","v":0},{"$f":"IF(Inscrip.!U48=\"Oui - Yes\",1,0)","v":0},{"$f":"IF(Inscrip.!V48=\"Oui - Yes\",1,0)","v":0},{"$f":"IF(Inscrip.!W48=\"Oui - Yes\",1,0)","v":0},{"$f":"IF(Inscrip.!X48=\"Oui - Yes\",1,0)","v":0},0,{"$f":"IF(Inscrip.!AB48=\"Oui - Yes\",P_Rsoir,0)","v":0},{"$f":"IF(Inscrip.!AC48=\"Oui - Yes\",P_RMidi,0)","v":0},{"$f":"IF(Inscrip.!AD48=\"Oui - Yes\",P_Rsoir,0)","v":0},{"$f":"IF(Inscrip.!AE48=\"Oui - Yes\",P_RMidi,0)","v":0},{"$f":"IF(Inscrip.!AF48=\"Oui - Yes\",P_Rsoir,0)","v":0},{"$f":"IF(Inscrip.!AG48=\"Oui - Yes\",P_RMidi,0)","v":0},{"$f":"IF(Inscrip.!AH48=\"Oui - Yes\",P_Rsoir,0)","v":0},0]
[{"$nulls":12},{"$f":"IF(Inscrip.!R49=\"Oui - Yes\",P_Bus,0)","v":0},{"$f":"IF(Inscrip.!S49=\"Autre / Other\",P_N4,IF(Inscrip.!S49=\"Individuel / Alone\",P_N1,IF(Inscrip.!S49=\"Couple\",P_N2,IF(Inscrip.!S49=\"Aucune / None\",0,\"Err\"))))","v":0},{"$f":"IF(Inscrip.!U49=\"Oui - Yes\",1,0)","v":0},{"$f":"IF(Inscrip.!V49=\"Oui - Yes\",1,0)","v":0},{"$f":"IF(Inscrip.!W49=\"Oui - Yes\",1,0)","v":0},{"$f":"IF(Inscrip.!X49=\"Oui - Yes\",1,0)","v":0},0,{"$f":"IF(Inscrip.!AB49=\"Oui - Yes\",P_Rsoir,0)","v":0},{"$f":"IF(Inscrip.!AC49=\"Oui - Yes\",P_RMidi,0)","v":0},{"$f":"IF(Inscrip.!AD49=\"Oui - Yes\",P_Rsoir,0)","v":0},{"$f":"IF(Inscrip.!AE49=\"Oui - Yes\",P_RMidi,0)","v":0},{"$f":"IF(Inscrip.!AF49=\"Oui - Yes\",P_Rsoir,0)","v":0},{"$f":"IF(Inscrip.!AG49=\"Oui - Yes\",P_RMidi,0)","v":0},{"$f":"IF(Inscrip.!AH49=\"Oui - Yes\",P_Rsoir,0)","v":0},0]
[{"$nulls":12},{"$f":"IF(Inscrip.!R50=\"Oui - Yes\",P_Bus,0)","v":0},{"$f":"IF(Inscrip.!S50=\"Autre / Other\",P_N4,IF(Inscrip.!S50=\"Individuel / Alone\",P_N1,IF(Inscrip.!S50=\"Couple\",P_N2,IF(Inscrip.!S50=\"Aucune / None\",0,\"Err\"))))","v":0},{"$f":"IF(Inscrip.!U50=\"Oui - Yes\",1,0)","v":0},{"$f":"IF(Inscrip.!V50=\"Oui - Yes\",1,0)","v":0},{"$f":"IF(Inscrip.!W50=\"Oui - Yes\",1,0)","v":0},{"$f":"IF(Inscrip.!X50=\"Oui - Yes\",1,0)","v":0},0,{"$f":"IF(Inscrip.!AB50=\"Oui - Yes\",P_Rsoir,0)","v":0},{"$f":"IF(Inscrip.!AC50=\"Oui - Yes\",P_RMidi,0)","v":0},{"$f":"IF(Inscrip.!AD50=\"Oui - Yes\",P_Rsoir,0)","v":0},{"$f":"IF(Inscrip.!AE50=\"Oui - Yes\",P_RMidi,0)","v":0},{"$f":"IF(Inscrip.!AF50=\"Oui - Yes\",P_Rsoir,0)","v":0},{"$f":"IF(Inscrip.!AG50=\"Oui - Yes\",P_RMidi,0)","v":0},{"$f":"IF(Inscrip.!AH50=\"Oui - Yes\",P_Rsoir,0)","v":0},0]
[{"$nulls":12},{"$f":"IF(Inscrip.!R51=\"Oui - Yes\",P_Bus,0)","v":0},{"$f":"IF(Inscrip.!S51=\"Autre / Other\",P_N4,IF(Inscrip.!S51=\"Individuel / Alone\",P_N1,IF(Inscrip.!S51=\"Couple\",P_N2,IF(Inscrip.!S51=\"Aucune / None\",0,\"Err\"))))","v":0},{"$f":"IF(Inscrip.!U51=\"Oui - Yes\",1,0)","v":0},{"$f":"IF(Inscrip.!V51=\"Oui - Yes\",1,0)","v":0},{"$f":"IF(Inscrip.!W51=\"Oui - Yes\",1,0)","v":0},{"$f":"IF(Inscrip.!X51=\"Oui - Yes\",1,0)","v":0},0,{"$f":"IF(Inscrip.!AB51=\"Oui - Yes\",P_Rsoir,0)","v":0},{"$f":"IF(Inscrip.!AC51=\"Oui - Yes\",P_RMidi,0)","v":0},{"$f":"IF(Inscrip.!AD51=\"Oui - Yes\",P_Rsoir,0)","v":0},{"$f":"IF(Inscrip.!AE51=\"Oui - Yes\",P_RMidi,0)","v":0},{"$f":"IF(Inscrip.!AF51=\"Oui - Yes\",P_Rsoir,0)","v":0},{"$f":"IF(Inscrip.!AG51=\"Oui - Yes\",P_RMidi,0)","v":0},{"$f":"IF(Inscrip.!AH51=\"Oui - Yes\",P_Rsoir,0)","v":0},0]
[{"$nulls":12},{"$f":"IF(Inscrip.!R52=\"Oui - Yes\",P_Bus,0)","v":0},{"$f":"IF(Inscrip.!S52=\"Autre / Other\",P_N4,IF(Inscrip.!S52=\"Individuel / Alone\",P_N1,IF(Inscrip.!S52=\"Couple\",P_N2,IF(Inscrip.!S52=\"Aucune / None\",0,\"Err\"))))","v":0},{"$f":"IF(Inscrip.!U52=\"Oui - Yes\",1,0)","v":0},{"$f":"IF(Inscrip.!V52=\"Oui - Yes\",1,0)","v":0},{"$f":"IF(Inscrip.!W52=\"Oui - Yes\",1,0)","v":0},{"$f":"IF(Inscrip.!X52=\"Oui - Yes\",1,0)","v":0},0,{"$f":"IF(Inscrip.!AB52=\"Oui - Yes\",P_Rsoir,0)","v":0},{"$f":"IF(Inscrip.!AC52=\"Oui - Yes\",P_RMidi,0)","v":0},{"$f":"IF(Inscrip.!AD52=\"Oui - Yes\",P_Rsoir,0)","v":0},{"$f":"IF(Inscrip.!AE52=\"Oui - Yes\",P_RMidi,0)","v":0},{"$f":"IF(Inscrip.!AF52=\"Oui - Yes\",P_Rsoir,0)","v":0},{"$f":"IF(Inscrip.!AG52=\"Oui - Yes\",P_RMidi,0)","v":0},{"$f":"IF(Inscrip.!AH52=\"Oui - Yes\",P_Rsoir,0)","v":0},0]
[{"$nulls":12},{"$f":"IF(Inscrip.!R53=\"Oui - Yes\",P_Bus,0)","v":0},{"$f":"IF(Inscrip.!S53=\"Autre / Other\",P_N4,IF(Inscrip.!S53=\"Individuel / Alone\",P_N1,IF(Inscrip.!S53=\"Couple\",P_N2,IF(Inscrip.!S53=\"Aucune / None\",0,\"Err\"))))","v":0},{"$f":"IF(Inscrip.!U53=\"Oui - Yes\",1,0)","v":0},{"$f":"IF(Inscrip.!V53=\"Oui - Yes\",1,0)","v":0},{"$f":"IF(Inscrip.!W53=\"Oui - Yes\",1,0)","v":0},{"$f":"IF(Inscrip.!X53=\"Oui - Yes\",1,0)","v":0},0,{"$f":"IF(Inscrip.!AB53=\"Oui - Yes\",P_Rsoir,0)","v":0},{"$f":"IF(Inscrip.!AC53=\"Oui - Yes\",P_RMidi,0)","v":0},{"$f":"IF(Inscrip.!AD53=\"Oui - Yes\",P_Rsoir,0)","v":0},{"$f":"IF(Inscrip.!AE53=\"Oui - Yes\",P_RMidi,0)","v":0},{"$f":"IF(Inscrip.!AF53=\"Oui - Yes\",P_Rsoir,0)","v":0},{"$f":"IF(Inscrip.!AG53=\"Oui - Yes\",P_RMidi,0)","v":0},{"$f":"IF(Inscrip.!AH53=\"Oui - Yes\",P_Rsoir,0)","v":0},0]
[{"$nulls":12},{"$f":"IF(Inscrip.!R54=\"Oui - Yes\",P_Bus,0)","v":0},{"$f":"IF(Inscrip.!S54=\"Autre / Other\",P_N4,IF(Inscrip.!S54=\"Individuel / Alone\",P_N1,IF(Inscrip.!S54=\"Couple\",P_N2,IF(Inscrip.!S54=\"Aucune / None\",0,\"Err\"))))","v":0},{"$f":"IF(Inscrip.!U54=\"Oui - Yes\",1,0)","v":0},{"$f":"IF(Inscrip.!V54=\"Oui - Yes\",1,0)","v":0},{"$f":"IF(Inscrip.!W54=\"Oui - Yes\",1,0)","v":0},{"$f":"IF(Inscrip.!X54=\"Oui - Yes\",1,0)","v":0},0,{"$f":"IF(Inscrip.!AB54=\"Oui - Yes\",P_Rsoir,0)","v":0},{"$f":"IF(Inscrip.!AC54=\"Oui - Yes\",P_RMidi,0)","v":0},{"$f":"IF(Inscrip.!AD54=\"Oui - Yes\",P_Rsoir,0)","v":0},{"$f":"IF(Inscrip.!AE54=\"Oui - Yes\",P_RMidi,0)","v":0},{"$f":"IF(Inscrip.!AF54=\"Oui - Yes\",P_Rsoir,0)","v":0},{"$f":"IF(Inscrip.!AG54=\"Oui - Yes\",P_RMidi,0)","v":0},{"$f":"IF(Inscrip.!AH54=\"Oui - Yes\",P_Rsoir,0)","v":0},0]
[{"$nulls":12},{"$f":"IF(Inscrip.!R55=\"Oui - Yes\",P_Bus,0)","v":0},{"$f":"IF(Inscrip.!S55=\"Autre / Other\",P_N4,IF(Inscrip.!S55=\"Individuel / Alone\",P_N1,IF(Inscrip.!S55=\"Couple\",P_N2,IF(Inscrip.!S55=\"Aucune / None\",0,\"Err\"))))","v":0},{"$f":"IF(Inscrip.!U55=\"Oui - Yes\",1,0)","v":0},{"$f":"IF(Inscrip.!V55=\"Oui - Yes\",1,0)","v":0},{"$f":"IF(Inscrip.!W55=\"Oui - Yes\",1,0)","v":0},{"$f":"IF(Inscrip.!X55=\"Oui - Yes\",1,0)","v":0},0,{"$f":"IF(Inscrip.!AB55=\"Oui - Yes\",P_Rsoir,0)","v":0},{"$f":"IF(Inscrip.!AC55=\"Oui - Yes\",P_RMidi,0)","v":0},{"$f":"IF(Inscrip.!AD55=\"Oui - Yes\",P_Rsoir,0)","v":0},{"$f":"IF(Inscrip.!AE55=\"Oui - Yes\",P_RMidi,0)","v":0},{"$f":"IF(Inscrip.!AF55=\"Oui - Yes\",P_Rsoir,0)","v":0},{"$f":"IF(Inscrip.!AG55=\"Oui - Yes\",P_RMidi,0)","v":0},{"$f":"IF(Inscrip.!AH55=\"Oui - Yes\",P_Rsoir,0)","v":0},0]
[{"$nulls":12},{"$f":"IF(Inscrip.!R56=\"Oui - Yes\",P_Bus,0)","v":0},{"$f":"IF(Inscrip.!S56=\"Autre / Other\",P_N4,IF(Inscrip.!S56=\"Individuel / Alone\",P_N1,IF(Inscrip.!S56=\"Couple\",P_N2,IF(Inscrip.!S56=\"Aucune / None\",0,\"Err\"))))","v":0},{"$f":"IF(Inscrip.!U56=\"Oui - Yes\",1,0)","v":0},{"$f":"IF(Inscrip.!V56=\"Oui - Yes\",1,0)","v":0},{"$f":"IF(Inscrip.!W56=\"Oui - Yes\",1,0)","v":0},{"$f":"IF(Inscrip.!X56=\"Oui - Yes\",1,0)","v":0},0,{"$f":"IF(Inscrip.!AB56=\"Oui - Yes\",P_Rsoir,0)","v":0},{"$f":"IF(Inscrip.!AC56=\"Oui - Yes\",P_RMidi,0)","v":0},{"$f":"IF(Inscrip.!AD56=\"Oui - Yes\",P_Rsoir,0)","v":0},{"$f":"IF(Inscrip.!AE56=\"Oui - Yes\",P_RMidi,0)","v":0},{"$f":"IF(Inscrip.!AF56=\"Oui - Yes\",P_Rsoir,0)","v":0},{"$f":"IF(Inscrip.!AG56=\"Oui - Yes\",P_RMidi,0)","v":0},{"$f":"IF(Inscrip.!AH56=\"Oui - Yes\",P_Rsoir,0)","v":0},0]
[{"$nulls":12},{"$f":"IF(Inscrip.!R57=\"Oui - Yes\",P_Bus,0)","v":0},{"$f":"IF(Inscrip.!S57=\"Autre / Other\",P_N4,IF(Inscrip.!S57=\"Individuel / Alone\",P_N1,IF(Inscrip.!S57=\"Couple\",P_N2,IF(Inscrip.!S57=\"Aucune / None\",0,\"Err\"))))","v":0},{"$f":"IF(Inscrip.!U57=\"Oui - Yes\",1,0)","v":0},{"$f":"IF(Inscrip.!V57=\"Oui - Yes\",1,0)","v":0},{"$f":"IF(Inscrip.!W57=\"Oui - Yes\",1,0)","v":0},{"$f":"IF(Inscrip.!X57=\"Oui - Yes\",1,0)","v":0},0,{"$f":"IF(Inscrip.!AB57=\"Oui - Yes\",P_Rsoir,0)","v":0},{"$f":"IF(Inscrip.!AC57=\"Oui - Yes\",P_RMidi,0)","v":0},{"$f":"IF(Inscrip.!AD57=\"Oui - Yes\",P_Rsoir,0)","v":0},{"$f":"IF(Inscrip.!AE57=\"Oui - Yes\",P_RMidi,0)","v":0},{"$f":"IF(Inscrip.!AF57=\"Oui - Yes\",P_Rsoir,0)","v":0},{"$f":"IF(Inscrip.!AG57=\"Oui - Yes\",P_RMidi,0)","v":0},{"$f":"IF(Inscrip.!AH57=\"Oui - Yes\",P_Rsoir,0)","v":0},0]
[{"$nulls":12},{"$f":"IF(Inscrip.!R58=\"Oui - Yes\",P_Bus,0)","v":0},{"$f":"IF(Inscrip.!S58=\"Autre / Other\",P_N4,IF(Inscrip.!S58=\"Individuel / Alone\",P_N1,IF(Inscrip.!S58=\"Couple\",P_N2,IF(Inscrip.!S58=\"Aucune / None\",0,\"Err\"))))","v":0},{"$f":"IF(Inscrip.!U58=\"Oui - Yes\",1,0)","v":0},{"$f":"IF(Inscrip.!V58=\"Oui - Yes\",1,0)","v":0},{"$f":"IF(Inscrip.!W58=\"Oui - Yes\",1,0)","v":0},{"$f":"IF(Inscrip.!X58=\"Oui - Yes\",1,0)","v":0},0,{"$f":"IF(Inscrip.!AB58=\"Oui - Yes\",P_Rsoir,0)","v":0},{"$f":"IF(Inscrip.!AC58=\"Oui - Yes\",P_RMidi,0)","v":0},{"$f":"IF(Inscrip.!AD58=\"Oui - Yes\",P_Rsoir,0)","v":0},{"$f":"IF(Inscrip.!AE58=\"Oui - Yes\",P_RMidi,0)","v":0},{"$f":"IF(Inscrip.!AF58=\"Oui - Yes\",P_Rsoir,0)","v":0},{"$f":"IF(Inscrip.!AG58=\"Oui - Yes\",P_RMidi,0)","v":0},{"$f":"IF(Inscrip.!AH58=\"Oui - Yes\",P_Rsoir,0)","v":0},0]
[{"$nulls":12},{"$f":"IF(Inscrip.!R59=\"Oui - Yes\",P_Bus,0)","v":0},{"$f":"IF(Inscrip.!S59=\"Autre / Other\",P_N4,IF(Inscrip.!S59=\"Individuel / Alone\",P_N1,IF(Inscrip.!S59=\"Couple\",P_N2,IF(Inscrip.!S59=\"Aucune / None\",0,\"Err\"))))","v":0},{"$f":"IF(Inscrip.!U59=\"Oui - Yes\",1,0)","v":0},{"$f":"IF(Inscrip.!V59=\"Oui - Yes\",1,0)","v":0},{"$f":"IF(Inscrip.!W59=\"Oui - Yes\",1,0)","v":0},{"$f":"IF(Inscrip.!X59=\"Oui - Yes\",1,0)","v":0},0,{"$f":"IF(Inscrip.!AB59=\"Oui - Yes\",P_Rsoir,0)","v":0},{"$f":"IF(Inscrip.!AC59=\"Oui - Yes\",P_RMidi,0)","v":0},{"$f":"IF(Inscrip.!AD59=\"Oui - Yes\",P_Rsoir,0)","v":0},{"$f":"IF(Inscrip.!AE59=\"Oui - Yes\",P_RMidi,0)","v":0},{"$f":"IF(Inscrip.!AF59=\"Oui - Yes\",P_Rsoir,0)","v":0},{"$f":"IF(Inscrip.!AG59=\"Oui - Yes\",P_RMidi,0)","v":0},{"$f":"IF(Inscrip.!AH59=\"Oui - Yes\",P_Rsoir,0)","v":0},0]
[null,null,"How To","HowTo_JME*Stage2023"]
[null,null,"Inscrip.","Inscrip._JME*Stage2023"]
[null,null,"Tech","JME_Stage_EKF_2023"]